BEGIN:VCALENDAR
VERSION:2.0
PRODID:-//Saint Hedwig Catholic Church - ECPv6.15.17.1//NONSGML v1.0//EN
CALSCALE:GREGORIAN
METHOD:PUBLISH
X-WR-CALNAME:Saint Hedwig Catholic Church
X-ORIGINAL-URL:https://www.sainthedwig.org
X-WR-CALDESC:Events for Saint Hedwig Catholic Church
REFRESH-INTERVAL;VALUE=DURATION:PT1H
X-Robots-Tag:noindex
X-PUBLISHED-TTL:PT1H
BEGIN:VTIMEZONE
TZID:America/Los_Angeles
BEGIN:DAYLIGHT
TZOFFSETFROM:-0800
TZOFFSETTO:-0700
TZNAME:PDT
DTSTART:20240310T100000
END:DAYLIGHT
BEGIN:STANDARD
TZOFFSETFROM:-0700
TZOFFSETTO:-0800
TZNAME:PST
DTSTART:20241103T090000
END:STANDARD
BEGIN:DAYLIGHT
TZOFFSETFROM:-0800
TZOFFSETTO:-0700
TZNAME:PDT
DTSTART:20250309T100000
END:DAYLIGHT
BEGIN:STANDARD
TZOFFSETFROM:-0700
TZOFFSETTO:-0800
TZNAME:PST
DTSTART:20251102T090000
END:STANDARD
BEGIN:DAYLIGHT
TZOFFSETFROM:-0800
TZOFFSETTO:-0700
TZNAME:PDT
DTSTART:20260308T100000
END:DAYLIGHT
BEGIN:STANDARD
TZOFFSETFROM:-0700
TZOFFSETTO:-0800
TZNAME:PST
DTSTART:20261101T090000
END:STANDARD
END:VTIMEZONE
BEGIN:VEVENT
DTSTART;TZID=America/Los_Angeles:20251206T181500
DTEND;TZID=America/Los_Angeles:20251206T200000
DTSTAMP:20260425T202431
CREATED:20251029T221911Z
LAST-MODIFIED:20251122T172643Z
UID:10001114-1765044900-1765051200@www.sainthedwig.org
SUMMARY:Christmas Tree Lighting Ceremony
DESCRIPTION:Following the 5 PM Vigil Mass in the Holy Family Plaza \n\n\n\nUsher in the season with St. Hedwig Catholic Church & School! \n\n\n\nJoin us for a joyful evening featuring a blessing of the tree by Pastor Fr. Quan Tran\, merry Christmas carols\, a hot cocoa and cookie bar\, festive snow\, plus a special visit from Mr. and Mrs. Claus! \n\n\n\nNo RSVP necessary – just bring your Christmas cheer! Our annual Giving Tree Program will also kick off during this event to help families and individuals in need. See below for more information. \n\n\n\n \n\n\n\n2025 Giving Tree Program\n\n\n\nBe an angel for someone in need! Pick an angel ornament from the Holy Family Christmas tree beginning Saturday\, Dec. 6. On the back of each ornament\, you’ll find an item to donate. Drop off the unwrapped gift in any Christmas-wrapped box (located in Quinn Hall\, the Holy Family Plaza\, the School\, Parish\, and Faith Formation Offices) by Sunday\, Dec. 21.
URL:https://www.sainthedwig.org/event/christmas-tree-lighting-ceremony/
ATTACH;FMTTYPE=image/png:https://www.sainthedwig.org/wp-content/uploads/2025/10/Wordpress-Events-Page-Images-4.png
END:VEVENT
END:VCALENDAR