BEGIN:VCALENDAR
VERSION:2.0
PRODID:-//Saint Hedwig Catholic Church - ECPv6.15.17.1//NONSGML v1.0//EN
CALSCALE:GREGORIAN
METHOD:PUBLISH
X-ORIGINAL-URL:https://www.sainthedwig.org
X-WR-CALDESC:Events for Saint Hedwig Catholic Church
REFRESH-INTERVAL;VALUE=DURATION:PT1H
X-Robots-Tag:noindex
X-PUBLISHED-TTL:PT1H
BEGIN:VTIMEZONE
TZID:America/Los_Angeles
BEGIN:DAYLIGHT
TZOFFSETFROM:-0800
TZOFFSETTO:-0700
TZNAME:PDT
DTSTART:20240310T100000
END:DAYLIGHT
BEGIN:STANDARD
TZOFFSETFROM:-0700
TZOFFSETTO:-0800
TZNAME:PST
DTSTART:20241103T090000
END:STANDARD
BEGIN:DAYLIGHT
TZOFFSETFROM:-0800
TZOFFSETTO:-0700
TZNAME:PDT
DTSTART:20250309T100000
END:DAYLIGHT
BEGIN:STANDARD
TZOFFSETFROM:-0700
TZOFFSETTO:-0800
TZNAME:PST
DTSTART:20251102T090000
END:STANDARD
BEGIN:DAYLIGHT
TZOFFSETFROM:-0800
TZOFFSETTO:-0700
TZNAME:PDT
DTSTART:20260308T100000
END:DAYLIGHT
BEGIN:STANDARD
TZOFFSETFROM:-0700
TZOFFSETTO:-0800
TZNAME:PST
DTSTART:20261101T090000
END:STANDARD
END:VTIMEZONE
BEGIN:VEVENT
DTSTART;TZID=America/Los_Angeles:20251214T170000
DTEND;TZID=America/Los_Angeles:20251214T170000
DTSTAMP:20260425T130148
CREATED:20250923T224213Z
LAST-MODIFIED:20250923T225201Z
UID:10000587-1765731600-1765731600@www.sainthedwig.org
SUMMARY:Youth Band
DESCRIPTION:Are you a high schooler who loves music and wants to use your talent in a meaningful way? Come be part of our Youth Band!  \n\n\n\nThis vibrant group of young musicians leads worship with contemporary music at the 5 PM Sunday Mass\, second Sunday of each month from September through December. \n\n\n\nIt’s a great opportunity to grow musically\, make new friends\, and serve your parish community. Rehearsals start at 3 PM on the day of Mass. While prior ensemble experience is helpful\, it’s not required. We welcome all who are passionate and willing to learn.  \n\n\n\nIf you’re interested\, reach out to our Music Director\, Audra Meyerhofer\, before attending rehearsal to chat about your experience and readiness to jump in. *Please note that due to space in the Quinn Hall Sanctuary\, instrument spots may be limited*  \n\n\n\n\nMusic Ministry – Saint Hedwig Catholic Church\n\n\n\n\nDates:  \n\n\n\nOctober 12th\, 2025 \n\n\n\nNovember 9th\, 2025 \n\n\n\nDecember 14th\, 2025
URL:https://www.sainthedwig.org/event/youth-band/2025-12-14/
ATTACH;FMTTYPE=image/png:https://www.sainthedwig.org/wp-content/uploads/2025/09/Wordpress-Events-Page-Images-1-3.png
END:VEVENT
END:VCALENDAR