BEGIN:VCALENDAR
VERSION:2.0
PRODID:-//Saint Hedwig Catholic Church - ECPv6.15.17.1//NONSGML v1.0//EN
CALSCALE:GREGORIAN
METHOD:PUBLISH
X-WR-CALNAME:Saint Hedwig Catholic Church
X-ORIGINAL-URL:https://www.sainthedwig.org
X-WR-CALDESC:Events for Saint Hedwig Catholic Church
REFRESH-INTERVAL;VALUE=DURATION:PT1H
X-Robots-Tag:noindex
X-PUBLISHED-TTL:PT1H
BEGIN:VTIMEZONE
TZID:America/Los_Angeles
BEGIN:DAYLIGHT
TZOFFSETFROM:-0800
TZOFFSETTO:-0700
TZNAME:PDT
DTSTART:20250309T100000
END:DAYLIGHT
BEGIN:STANDARD
TZOFFSETFROM:-0700
TZOFFSETTO:-0800
TZNAME:PST
DTSTART:20251102T090000
END:STANDARD
BEGIN:DAYLIGHT
TZOFFSETFROM:-0800
TZOFFSETTO:-0700
TZNAME:PDT
DTSTART:20260308T100000
END:DAYLIGHT
BEGIN:STANDARD
TZOFFSETFROM:-0700
TZOFFSETTO:-0800
TZNAME:PST
DTSTART:20261101T090000
END:STANDARD
BEGIN:DAYLIGHT
TZOFFSETFROM:-0800
TZOFFSETTO:-0700
TZNAME:PDT
DTSTART:20270314T100000
END:DAYLIGHT
BEGIN:STANDARD
TZOFFSETFROM:-0700
TZOFFSETTO:-0800
TZNAME:PST
DTSTART:20271107T090000
END:STANDARD
END:VTIMEZONE
BEGIN:VEVENT
DTSTART;TZID=America/Los_Angeles:20260218T063000
DTEND;TZID=America/Los_Angeles:20260218T203000
DTSTAMP:20260419T112242
CREATED:20260217T204850Z
LAST-MODIFIED:20260218T180846Z
UID:10001304-1771396200-1771446600@www.sainthedwig.org
SUMMARY:Ash Wednesday
DESCRIPTION:Join us on Wednesday\, February 18\, as we begin the sacred season of Lent on Ash Wednesday\, a day of prayer\, fasting\, and repentance. \n\n\n\nAshes will be distributed at the following Masses & Liturgy of the Word: \n\n\n\nMass Times:6:30 AM8:30 AM5:30 PM7:30 PM \n\n\n\nLiturgy of the Word:12:15 PM \n\n\n\nWe will also have Adoration of the Blessed Sacrament beginning at 8:30 PM and continuing overnight until 8:15 AM the following morning.To commit to an overnight hour\, please sign up at: sainthedwig.weadorehim.com \n\n\n\nPlease note that Confessions will not be held on Ash Wednesday. Our regular Confession schedule will resume on Saturday\, February 21. \n\n\n\nAs we enter this holy season\, please remember that Ash Wednesday is a day of fasting and abstinence from meat\, and all Fridays during Lent are days of abstinence. \n\n\n\nWe invite you to begin Lent with us in prayer and reflection as we prepare our hearts for Easter.
URL:https://www.sainthedwig.org/event/ash-wednesday/
ATTACH;FMTTYPE=image/png:https://www.sainthedwig.org/wp-content/uploads/2026/02/Wordpress-Events-Page-Images-3.5-x-2-in.png
END:VEVENT
END:VCALENDAR