BEGIN:VCALENDAR
VERSION:2.0
PRODID:-//Saint Hedwig Catholic Church - ECPv6.15.17.1//NONSGML v1.0//EN
CALSCALE:GREGORIAN
METHOD:PUBLISH
X-WR-CALNAME:Saint Hedwig Catholic Church
X-ORIGINAL-URL:https://www.sainthedwig.org
X-WR-CALDESC:Events for Saint Hedwig Catholic Church
REFRESH-INTERVAL;VALUE=DURATION:PT1H
X-Robots-Tag:noindex
X-PUBLISHED-TTL:PT1H
BEGIN:VTIMEZONE
TZID:America/Los_Angeles
BEGIN:DAYLIGHT
TZOFFSETFROM:-0800
TZOFFSETTO:-0700
TZNAME:PDT
DTSTART:20250309T100000
END:DAYLIGHT
BEGIN:STANDARD
TZOFFSETFROM:-0700
TZOFFSETTO:-0800
TZNAME:PST
DTSTART:20251102T090000
END:STANDARD
BEGIN:DAYLIGHT
TZOFFSETFROM:-0800
TZOFFSETTO:-0700
TZNAME:PDT
DTSTART:20260308T100000
END:DAYLIGHT
BEGIN:STANDARD
TZOFFSETFROM:-0700
TZOFFSETTO:-0800
TZNAME:PST
DTSTART:20261101T090000
END:STANDARD
BEGIN:DAYLIGHT
TZOFFSETFROM:-0800
TZOFFSETTO:-0700
TZNAME:PDT
DTSTART:20270314T100000
END:DAYLIGHT
BEGIN:STANDARD
TZOFFSETFROM:-0700
TZOFFSETTO:-0800
TZNAME:PST
DTSTART:20271107T090000
END:STANDARD
END:VTIMEZONE
BEGIN:VEVENT
DTSTART;TZID=America/Los_Angeles:20260316T000000
DTEND;TZID=America/Los_Angeles:20260317T235959
DTSTAMP:20260423T111433
CREATED:20250910T002855Z
LAST-MODIFIED:20260217T213330Z
UID:10001359-1773619200-1773791999@www.sainthedwig.org
SUMMARY:24-Hour Adoration
DESCRIPTION:Come and be in His Presence! We have 24-hour Adoration on the 16th of every month starting after the 8:30 AM Mass. Benediction is the next morning at 8:15 AM. \n\n\n\nTo sign up visit: sainthedwig.weadorehim.com/.  \n\n\n\nHe’s waiting for you! \n\n\n\nThe church (Quinn Hall) is locked from 8:00 PM – 6:30 AM. An entry code is provided after signing up online.  \n\n\n\nQuestions? (562) 296-9098  \n\n\n\nEmail: Adoration@sainthedwig.org
URL:https://www.sainthedwig.org/event/24-hour-adoration-tuesday-sept-16-wednesday-sept-17/2026-03-16/
ATTACH;FMTTYPE=image/png:https://www.sainthedwig.org/wp-content/uploads/2025/09/E-Blast-Banners-NEW-4.png
END:VEVENT
BEGIN:VEVENT
DTSTART;TZID=America/Los_Angeles:20260316T193000
DTEND;TZID=America/Los_Angeles:20260316T203000
DTSTAMP:20260423T111433
CREATED:20251017T234916Z
LAST-MODIFIED:20260108T004714Z
UID:10000613-1773689400-1773693000@www.sainthedwig.org
SUMMARY:Young Adult Rosary & Bible Study
DESCRIPTION:Join us every Monday at 7:30 PM in the Our Lady of Guadalupe Room (Parish Center\, across from Quinn Hall) for a peaceful evening of prayer and fellowship. Open to young adults ages 18–36. \n\n\n\nJoin our GroupMe and stay connected. Email ebray@sainthedwig.org for the link. \n\n\n\nAll are welcome!
URL:https://www.sainthedwig.org/event/young-adult-rosary/2026-03-16/
ATTACH;FMTTYPE=image/png:https://www.sainthedwig.org/wp-content/uploads/2025/10/Wordpress-Events-Page-Images-6.png
END:VEVENT
END:VCALENDAR