BEGIN:VCALENDAR
VERSION:2.0
PRODID:-//Saint Hedwig Catholic Church - ECPv6.15.17.1//NONSGML v1.0//EN
CALSCALE:GREGORIAN
METHOD:PUBLISH
X-WR-CALNAME:Saint Hedwig Catholic Church
X-ORIGINAL-URL:https://www.sainthedwig.org
X-WR-CALDESC:Events for Saint Hedwig Catholic Church
REFRESH-INTERVAL;VALUE=DURATION:PT1H
X-Robots-Tag:noindex
X-PUBLISHED-TTL:PT1H
BEGIN:VTIMEZONE
TZID:America/Los_Angeles
BEGIN:DAYLIGHT
TZOFFSETFROM:-0800
TZOFFSETTO:-0700
TZNAME:PDT
DTSTART:20250309T100000
END:DAYLIGHT
BEGIN:STANDARD
TZOFFSETFROM:-0700
TZOFFSETTO:-0800
TZNAME:PST
DTSTART:20251102T090000
END:STANDARD
BEGIN:DAYLIGHT
TZOFFSETFROM:-0800
TZOFFSETTO:-0700
TZNAME:PDT
DTSTART:20260308T100000
END:DAYLIGHT
BEGIN:STANDARD
TZOFFSETFROM:-0700
TZOFFSETTO:-0800
TZNAME:PST
DTSTART:20261101T090000
END:STANDARD
BEGIN:DAYLIGHT
TZOFFSETFROM:-0800
TZOFFSETTO:-0700
TZNAME:PDT
DTSTART:20270314T100000
END:DAYLIGHT
BEGIN:STANDARD
TZOFFSETFROM:-0700
TZOFFSETTO:-0800
TZNAME:PST
DTSTART:20271107T090000
END:STANDARD
END:VTIMEZONE
BEGIN:VEVENT
DTSTART;TZID=America/Los_Angeles:20260329T131500
DTEND;TZID=America/Los_Angeles:20260329T141500
DTSTAMP:20260421T045953
CREATED:20250918T171719Z
LAST-MODIFIED:20260217T213519Z
UID:10001420-1774790100-1774793700@www.sainthedwig.org
SUMMARY:Rosary for Life
DESCRIPTION:Our Respect Life Ministry invites you to join in praying the Glorious Mysteries of the Rosary for the protection and dignity of all life\, from conception to natural death. \n\n\n\nWhen: Every last Sunday of the month at 1:15 PMWhere: Church \n\n\n\nAll are welcome to participate in this powerful prayer for life. \n\n\n\nFor resources and more information\, visit: www.sainthedwig.org/respect-life/
URL:https://www.sainthedwig.org/event/rosary-for-life-4/2026-03-29/
ATTACH;FMTTYPE=image/png:https://www.sainthedwig.org/wp-content/uploads/2025/09/Wordpress-Events-Page-Images-12.png
END:VEVENT
END:VCALENDAR