BEGIN:VCALENDAR
VERSION:2.0
PRODID:-//Saint Hedwig Catholic Church - ECPv6.15.17.1//NONSGML v1.0//EN
CALSCALE:GREGORIAN
METHOD:PUBLISH
X-WR-CALNAME:Saint Hedwig Catholic Church
X-ORIGINAL-URL:https://www.sainthedwig.org
X-WR-CALDESC:Events for Saint Hedwig Catholic Church
REFRESH-INTERVAL;VALUE=DURATION:PT1H
X-Robots-Tag:noindex
X-PUBLISHED-TTL:PT1H
BEGIN:VTIMEZONE
TZID:America/Los_Angeles
BEGIN:DAYLIGHT
TZOFFSETFROM:-0800
TZOFFSETTO:-0700
TZNAME:PDT
DTSTART:20240310T100000
END:DAYLIGHT
BEGIN:STANDARD
TZOFFSETFROM:-0700
TZOFFSETTO:-0800
TZNAME:PST
DTSTART:20241103T090000
END:STANDARD
BEGIN:DAYLIGHT
TZOFFSETFROM:-0800
TZOFFSETTO:-0700
TZNAME:PDT
DTSTART:20250309T100000
END:DAYLIGHT
BEGIN:STANDARD
TZOFFSETFROM:-0700
TZOFFSETTO:-0800
TZNAME:PST
DTSTART:20251102T090000
END:STANDARD
BEGIN:DAYLIGHT
TZOFFSETFROM:-0800
TZOFFSETTO:-0700
TZNAME:PDT
DTSTART:20260308T100000
END:DAYLIGHT
BEGIN:STANDARD
TZOFFSETFROM:-0700
TZOFFSETTO:-0800
TZNAME:PST
DTSTART:20261101T090000
END:STANDARD
END:VTIMEZONE
BEGIN:VEVENT
DTSTART;TZID=America/Los_Angeles:20250926T190000
DTEND;TZID=America/Los_Angeles:20250928T220000
DTSTAMP:20260419T080716
CREATED:20250701T184933Z
LAST-MODIFIED:20250916T181630Z
UID:10000001-1758913200-1759096800@www.sainthedwig.org
SUMMARY:Autumnfest Save the Date!
DESCRIPTION:Join us for Autumnfest 2025\, happening September 26–28! \nEnjoy carnival rides\, classic games\, delicious food\, and live music all weekend long. Whether you’re looking for family-friendly activities or just want to soak in the festive atmosphere\, there’s something for everyone at Autumnfest. \nFestival hours are Friday from 6 PM to 11 PM\, Saturday from 12 PM to 11 PM\, and Sunday from 12 PM to 8 PM. \nLearn more about becoming a SPONSOR\, VOLUNTEER\, and PRESALE information HERE.\nPresale begins Saturday\, September 20th after 5 PM Mass. Presale ends Friday\, September 26th at 5pm SHARP in the Parish Center Courtyard. \n  \nImportant Parking & Church Schedule Updates\nChurch Hours \n\nEarly Closure:The Church will close early at 6:30 PM on:\n\nFriday\, September 26\nSaturday\, September 27\n\n\n\n\nParking Lot Unavailable\nThe Church Parking Lot will be UNAVAILABLE during the following dates and times: \nWednesday\, September 24 – Friday\, September 26 \n\nSchool Drop Off: 7:30 AM – 8:30 AM\nSchool Pick Up: 11:30 AM – 12:30 PM\nSchool Preview (Friday only): 9:00 AM – 12:00 PM\n\nFriday\, September 26 – Sunday\, September 28 \n\nParking will be unavailable Friday 9/26 3pm- Sunday 7pm.\n\n\nAdditional Parking Information\n\nHandicap Parking: Begins Friday\, 9/26 at 3:00 PM(Valid placards required)\nAlternative Parking Options:\n\nAlong Orangewood Avenue\nAt Good Shepherd Church (next door)Available each day after 12:00 PM(Please dispose of trash in provided receptacles.)\n\n\nNo Base Parking Available\n\nCarpooling\, ride shares\, and biking are highly encouraged!\n\n\n\n\n\n\n\n\n\n\n\n\n\n\nVolunteer Sign Up\n\n     \nText \n\n\n\nhere \n\n\n\nis  \n\n\n\nthe  \n\n\n\nsite \n\n\n\n\n\n\n\n\nSponsor Sign Up\n\n     \nPlease sponser here \n\n\n\nhere \n\n\n\nhere \n\n\n\n\n\n\nPre-Sale Sign Up\n\n     \nBUY ride toens \n\n\n\nfood cards \n\n\n\ngame cards
URL:https://www.sainthedwig.org/event/autumnfest-save-the-date/
LOCATION:11482 Los Alamitos Blvd.\, Los Alamitos\, CA 90720\, 11482 Los Alamitos Blvd\, Los Alamitos\, 90720
ATTACH;FMTTYPE=image/png:https://www.sainthedwig.org/wp-content/uploads/2025/07/Wordpress-Events-Page-Images-2.png
GEO:33.7927912;-118.071711
X-APPLE-STRUCTURED-LOCATION;VALUE=URI;X-ADDRESS=11482 Los Alamitos Blvd. Los Alamitos CA 90720 11482 Los Alamitos Blvd Los Alamitos 90720;X-APPLE-RADIUS=500;X-TITLE=11482 Los Alamitos Blvd:geo:-118.071711,33.7927912
END:VEVENT
BEGIN:VEVENT
DTSTART;TZID=America/Los_Angeles:20250926T054500
DTEND;TZID=America/Los_Angeles:20250926T071500
DTSTAMP:20260419T080716
CREATED:20250918T200353Z
LAST-MODIFIED:20251001T002629Z
UID:10000300-1758865500-1758870900@www.sainthedwig.org
SUMMARY:That Man Is You! (TMIY)
DESCRIPTION:That Man Is You! (TMIY) combines Scripture\, solid secular research\, and a bit of fun to address the real issues facing men in today’s culture. The program identifies the everyday pressures and temptations men face\, offers practical strategies to overcome them\, and encourages the development of authentic male leadership in the home\, Church\, and society. \n\n\n\nEach weekly session includes a dynamic presentation\, small group discussion\, and meaningful fellowship. \n\n\n\nEVERY FRIDAYTime: 5:45 AM – 7:15 AMLocation: Quinn Hall\, St. Hedwig Catholic Church \n\n\n\nAll men are encouraged to join. Register now! \n\n\n\nOptional Registration Fee: $50 (donation to St. Hedwig Catholic Church) \n\n\n\nFor more information\, contact:Deacon Henry EagarEmail: heagar@sainthedwig.orgPhone: (562) 262-9028Website: www.thatmanisyou.com
URL:https://www.sainthedwig.org/event/that-man-is-you-tmiy/2025-09-26/
ATTACH;FMTTYPE=image/png:https://www.sainthedwig.org/wp-content/uploads/2025/09/Wordpress-Events-Page-Images-2-1.png
END:VEVENT
BEGIN:VEVENT
DTSTART;TZID=America/Los_Angeles:20250925T100000
DTEND;TZID=America/Los_Angeles:20250925T110000
DTSTAMP:20260419T080716
CREATED:20251106T164412Z
LAST-MODIFIED:20251106T171731Z
UID:10001199-1758794400-1758798000@www.sainthedwig.org
SUMMARY:Bible Study
DESCRIPTION:Jesus: The Way\, the Truth\, and the Life is a new and fresh look at Jesus—who he is\, what he is really like\, what he taught\, and what he did for our salvation. This encounter with Christ will inspire and empower you to center your entire life around him as you come to know and love him in an ever deeper and more intimate way.* \n\n\n\nSt. Hedwig Church’s Bible study program is a 21-week series that will explore the entirety of Jesus’ life and what he means for us as Catholics today. Sessions meet weekly on Thursdays (with holiday breaks) starting Thursday\, September 25\, 2025 – Thursday\, March 26\, 2026 in Quinn Hall. \n\n\n\nSession times:  \n\n\n\n\nMorning session: 9:30 – 11:30 AM\n\n\n\nOR evening session: 7:00 – 9:00 PM\n\n\n\n\nPlease register for either the morning or evening session prior to attending. Please note\, anyone who registers after August 22\, 2025 is responsible for providing their own materials. Learn more. \n\n\n\n\nLearn More\n\n\n\n\nMinistry Contacts: Wayne Comeau: biblestudy@sainthedwig.orgOr Sue Goldberg: ssgoldberg4@gmail.com \n\n\n\n*Ascension Press
URL:https://www.sainthedwig.org/event/bible-study/2025-09-25/
LOCATION:Saint Hedwig Quinn Hall\, 11482 Los Alamitos Blvd\, Los Alamitos\, CA\, 90720\, United States
ATTACH;FMTTYPE=image/png:https://www.sainthedwig.org/wp-content/uploads/2025/09/Wordpress-Events-Page-Images-1-1.png
GEO:33.7927912;-118.071711
X-APPLE-STRUCTURED-LOCATION;VALUE=URI;X-ADDRESS=Saint Hedwig Quinn Hall 11482 Los Alamitos Blvd Los Alamitos CA 90720 United States;X-APPLE-RADIUS=500;X-TITLE=11482 Los Alamitos Blvd:geo:-118.071711,33.7927912
END:VEVENT
BEGIN:VEVENT
DTSTART;TZID=America/Los_Angeles:20250925T000000
DTEND;TZID=America/Los_Angeles:20250925T235959
DTSTAMP:20260419T080716
CREATED:20251106T163900Z
LAST-MODIFIED:20251106T163901Z
UID:10000024-1758758400-1758844799@www.sainthedwig.org
SUMMARY:St. Hedwig’s 2025 Bible Study is Starting Soon!
DESCRIPTION:“Jesus: The Way\, the Truth\, and the Life”\, St. Hedwig’s 21-week bible study program is starting soon\, and there is still time to join!  \n\n\n\nInterested members can register in the Parish office and will need to purchase their own materials.  \n\n\n\nFor more information\, please email Sue Goldberg at ssgoldberg4@gmail.com.
URL:https://www.sainthedwig.org/event/st-hedwigs-2025-bible-study-is-starting-soon/
END:VEVENT
BEGIN:VEVENT
DTSTART;TZID=America/Los_Angeles:20250919T054500
DTEND;TZID=America/Los_Angeles:20250919T071500
DTSTAMP:20260419T080716
CREATED:20250918T200353Z
LAST-MODIFIED:20251001T002629Z
UID:10000299-1758260700-1758266100@www.sainthedwig.org
SUMMARY:That Man Is You! (TMIY)
DESCRIPTION:That Man Is You! (TMIY) combines Scripture\, solid secular research\, and a bit of fun to address the real issues facing men in today’s culture. The program identifies the everyday pressures and temptations men face\, offers practical strategies to overcome them\, and encourages the development of authentic male leadership in the home\, Church\, and society. \n\n\n\nEach weekly session includes a dynamic presentation\, small group discussion\, and meaningful fellowship. \n\n\n\nEVERY FRIDAYTime: 5:45 AM – 7:15 AMLocation: Quinn Hall\, St. Hedwig Catholic Church \n\n\n\nAll men are encouraged to join. Register now! \n\n\n\nOptional Registration Fee: $50 (donation to St. Hedwig Catholic Church) \n\n\n\nFor more information\, contact:Deacon Henry EagarEmail: heagar@sainthedwig.orgPhone: (562) 262-9028Website: www.thatmanisyou.com
URL:https://www.sainthedwig.org/event/that-man-is-you-tmiy/2025-09-19/
ATTACH;FMTTYPE=image/png:https://www.sainthedwig.org/wp-content/uploads/2025/09/Wordpress-Events-Page-Images-2-1.png
END:VEVENT
BEGIN:VEVENT
DTSTART;TZID=America/Los_Angeles:20250918T160000
DTEND;TZID=America/Los_Angeles:20250918T180000
DTSTAMP:20260419T080716
CREATED:20250910T003607Z
LAST-MODIFIED:20250910T211114Z
UID:10000021-1758211200-1758218400@www.sainthedwig.org
SUMMARY:St. Francis Guild Meeting: Thursday\, September 18 at 4 PM
DESCRIPTION:St. Hedwig’s St. Francis Guild ministry is having their first meeting of the year\, and new members are welcome to attend! We will meet at Rosemary Happoldt’s home in Rossmoor.  \n\n\n\nTo RSVP and for the address\, please email Sue Goldberg at: stfrancisguild@sainthedwig.org
URL:https://www.sainthedwig.org/event/st-francis-guild-meeting-thursday-september-18-at-4-pm/
ATTACH;FMTTYPE=image/png:https://www.sainthedwig.org/wp-content/uploads/2025/09/Wordpress-Events-Page-Images-1.png
END:VEVENT
BEGIN:VEVENT
DTSTART;TZID=America/Los_Angeles:20250917T160000
DTEND;TZID=America/Los_Angeles:20250917T180000
DTSTAMP:20260419T080716
CREATED:20250910T003338Z
LAST-MODIFIED:20250910T224055Z
UID:10000020-1758124800-1758132000@www.sainthedwig.org
SUMMARY:Our Lady of Lourdes Guild Potluck: Wednesday\, Sept. 17
DESCRIPTION:Our Lady of Lourdes Guild will be hosting a backyard potluck at Mary Ann’s house on Wednesday\, Sept. 17 at 4:00 PM. All are welcome to attend!  \n\n\n\nPlease RSVP to Mary Anne: (562) 430-0744 or Hanora: (562) 666-6264 and include what you would like to bring to share.
URL:https://www.sainthedwig.org/event/our-lady-of-lourdes-guild-potluck-wednesday-sept-17/
ATTACH;FMTTYPE=image/png:https://www.sainthedwig.org/wp-content/uploads/2025/09/Wordpress-Events-Page-Images-8.png
END:VEVENT
BEGIN:VEVENT
DTSTART;TZID=America/Los_Angeles:20250831T131500
DTEND;TZID=America/Los_Angeles:20250831T131500
DTSTAMP:20260419T080716
CREATED:20250701T190303Z
LAST-MODIFIED:20250910T214109Z
UID:10000004-1756646100-1756646100@www.sainthedwig.org
SUMMARY:Rosary for Life
DESCRIPTION:
URL:https://www.sainthedwig.org/event/rosary-for-life/2025-08-31/
LOCATION:Saint Hedwig Quinn Hall\, 11482 Los Alamitos Blvd\, Los Alamitos\, CA\, 90720\, United States
ATTACH;FMTTYPE=image/png:https://www.sainthedwig.org/wp-content/uploads/2025/07/Wordpress-Events-Page-Images-4.png
GEO:33.7927912;-118.071711
X-APPLE-STRUCTURED-LOCATION;VALUE=URI;X-ADDRESS=Saint Hedwig Quinn Hall 11482 Los Alamitos Blvd Los Alamitos CA 90720 United States;X-APPLE-RADIUS=500;X-TITLE=11482 Los Alamitos Blvd:geo:-118.071711,33.7927912
END:VEVENT
BEGIN:VEVENT
DTSTART;TZID=America/Los_Angeles:20250727T131500
DTEND;TZID=America/Los_Angeles:20250727T131500
DTSTAMP:20260419T080716
CREATED:20250701T190303Z
LAST-MODIFIED:20250910T214109Z
UID:10000003-1753622100-1753622100@www.sainthedwig.org
SUMMARY:Rosary for Life
DESCRIPTION:
URL:https://www.sainthedwig.org/event/rosary-for-life/2025-07-27/
LOCATION:Saint Hedwig Quinn Hall\, 11482 Los Alamitos Blvd\, Los Alamitos\, CA\, 90720\, United States
ATTACH;FMTTYPE=image/png:https://www.sainthedwig.org/wp-content/uploads/2025/07/Wordpress-Events-Page-Images-4.png
GEO:33.7927912;-118.071711
X-APPLE-STRUCTURED-LOCATION;VALUE=URI;X-ADDRESS=Saint Hedwig Quinn Hall 11482 Los Alamitos Blvd Los Alamitos CA 90720 United States;X-APPLE-RADIUS=500;X-TITLE=11482 Los Alamitos Blvd:geo:-118.071711,33.7927912
END:VEVENT
BEGIN:VEVENT
DTSTART;TZID=America/Los_Angeles:20250720T000000
DTEND;TZID=America/Los_Angeles:20250807T235959
DTSTAMP:20260419T080716
CREATED:20250724T210748Z
LAST-MODIFIED:20250724T220233Z
UID:10000018-1752969600-1754611199@www.sainthedwig.org
SUMMARY:2025 Faith Formation Registration
DESCRIPTION:Registrations accepted for grades 1-8 \n\n\n\n*Includes First Communion and religious education*
URL:https://www.sainthedwig.org/event/2025-faith-formation-registration/
ATTACH;FMTTYPE=image/png:https://www.sainthedwig.org/wp-content/uploads/2025/07/25-faith-formation.png
END:VEVENT
BEGIN:VEVENT
DTSTART;TZID=America/Los_Angeles:20250714T083000
DTEND;TZID=America/Los_Angeles:20250718T120000
DTSTAMP:20260419T080716
CREATED:20250701T185929Z
LAST-MODIFIED:20250724T152342Z
UID:10000002-1752481800-1752840000@www.sainthedwig.org
SUMMARY:VBS Vacation Bible School
DESCRIPTION:Note: On Friday\, 7/18\, VBS ends at 12:30.
URL:https://www.sainthedwig.org/event/vbs-vacation-bible-school/
LOCATION:Saint Hedwig School Lunch Tables\, 3591 Orangewood Ave\, Los Alamitos\, CA\, 90720\, United States
ATTACH;FMTTYPE=image/png:https://www.sainthedwig.org/wp-content/uploads/2025/06/vbs-2025-webanner-2.png
GEO:33.795898;-118.072037
X-APPLE-STRUCTURED-LOCATION;VALUE=URI;X-ADDRESS=Saint Hedwig School Lunch Tables 3591 Orangewood Ave Los Alamitos CA 90720 United States;X-APPLE-RADIUS=500;X-TITLE=3591 Orangewood Ave:geo:-118.072037,33.795898
END:VEVENT
BEGIN:VEVENT
DTSTART;TZID=America/Los_Angeles:20250713T100000
DTEND;TZID=America/Los_Angeles:20250713T100000
DTSTAMP:20260419T080716
CREATED:20250703T165346Z
LAST-MODIFIED:20250703T165358Z
UID:10000016-1752400800-1752400800@www.sainthedwig.org
SUMMARY:Life in the Spirit Prayer Group\, Available After 10 AM Mass
DESCRIPTION:Need prayer? The Life in the Spirit prayer group is available to pray over you every 2nd Sunday of the month after the 10 AM Mass in the back of Quinn Hall. The next date is Sunday\, July 13.
URL:https://www.sainthedwig.org/event/life-in-the-spirit-prayer-group-available-after-10-am-mass/
LOCATION:Saint Hedwig Quinn Hall\, 11482 Los Alamitos Blvd\, Los Alamitos\, CA\, 90720\, United States
GEO:33.7927912;-118.071711
X-APPLE-STRUCTURED-LOCATION;VALUE=URI;X-ADDRESS=Saint Hedwig Quinn Hall 11482 Los Alamitos Blvd Los Alamitos CA 90720 United States;X-APPLE-RADIUS=500;X-TITLE=11482 Los Alamitos Blvd:geo:-118.071711,33.7927912
END:VEVENT
END:VCALENDAR