BEGIN:VCALENDAR
VERSION:2.0
PRODID:-//Saint Hedwig Catholic Church - ECPv6.15.17.1//NONSGML v1.0//EN
CALSCALE:GREGORIAN
METHOD:PUBLISH
X-ORIGINAL-URL:https://www.sainthedwig.org
X-WR-CALDESC:Events for Saint Hedwig Catholic Church
REFRESH-INTERVAL;VALUE=DURATION:PT1H
X-Robots-Tag:noindex
X-PUBLISHED-TTL:PT1H
BEGIN:VTIMEZONE
TZID:America/Los_Angeles
BEGIN:DAYLIGHT
TZOFFSETFROM:-0800
TZOFFSETTO:-0700
TZNAME:PDT
DTSTART:20250309T100000
END:DAYLIGHT
BEGIN:STANDARD
TZOFFSETFROM:-0700
TZOFFSETTO:-0800
TZNAME:PST
DTSTART:20251102T090000
END:STANDARD
BEGIN:DAYLIGHT
TZOFFSETFROM:-0800
TZOFFSETTO:-0700
TZNAME:PDT
DTSTART:20260308T100000
END:DAYLIGHT
BEGIN:STANDARD
TZOFFSETFROM:-0700
TZOFFSETTO:-0800
TZNAME:PST
DTSTART:20261101T090000
END:STANDARD
BEGIN:DAYLIGHT
TZOFFSETFROM:-0800
TZOFFSETTO:-0700
TZNAME:PDT
DTSTART:20270314T100000
END:DAYLIGHT
BEGIN:STANDARD
TZOFFSETFROM:-0700
TZOFFSETTO:-0800
TZNAME:PST
DTSTART:20271107T090000
END:STANDARD
BEGIN:DAYLIGHT
TZOFFSETFROM:-0800
TZOFFSETTO:-0700
TZNAME:PDT
DTSTART:20280312T100000
END:DAYLIGHT
BEGIN:STANDARD
TZOFFSETFROM:-0700
TZOFFSETTO:-0800
TZNAME:PST
DTSTART:20281105T090000
END:STANDARD
BEGIN:DAYLIGHT
TZOFFSETFROM:-0800
TZOFFSETTO:-0700
TZNAME:PDT
DTSTART:20290311T100000
END:DAYLIGHT
BEGIN:STANDARD
TZOFFSETFROM:-0700
TZOFFSETTO:-0800
TZNAME:PST
DTSTART:20291104T090000
END:STANDARD
END:VTIMEZONE
BEGIN:VEVENT
DTSTART;TZID=America/Los_Angeles:20260506T190000
DTEND;TZID=America/Los_Angeles:20260506T203000
DTSTAMP:20260421T081911
CREATED:20260108T005849Z
LAST-MODIFIED:20260108T005851Z
UID:10001243-1778094000-1778099400@www.sainthedwig.org
SUMMARY:Young Adult Ministry - Arts & Christ
DESCRIPTION:Every First Wednesday of the Month at 7:00 PM. Our Lady of Guadalupe Room\, Parish Center. \n\n\n\nJoin us for a faith-filled evening of creativity\, community\, and reflection as we create Catholic religious crafts together. \n\n\n\nInfo: George (562-296-9041) | Eric (562-296-9020)
URL:https://www.sainthedwig.org/event/young-adult-ministry-arts-christ/2026-05-06/
ATTACH;FMTTYPE=image/png:https://www.sainthedwig.org/wp-content/uploads/2026/01/Wordpress-Events-Page-Images-7.png
END:VEVENT
BEGIN:VEVENT
DTSTART;TZID=America/Los_Angeles:20260603T190000
DTEND;TZID=America/Los_Angeles:20260603T203000
DTSTAMP:20260421T081911
CREATED:20260108T005849Z
LAST-MODIFIED:20260108T005851Z
UID:10001244-1780513200-1780518600@www.sainthedwig.org
SUMMARY:Young Adult Ministry - Arts & Christ
DESCRIPTION:Every First Wednesday of the Month at 7:00 PM. Our Lady of Guadalupe Room\, Parish Center. \n\n\n\nJoin us for a faith-filled evening of creativity\, community\, and reflection as we create Catholic religious crafts together. \n\n\n\nInfo: George (562-296-9041) | Eric (562-296-9020)
URL:https://www.sainthedwig.org/event/young-adult-ministry-arts-christ/2026-06-03/
ATTACH;FMTTYPE=image/png:https://www.sainthedwig.org/wp-content/uploads/2026/01/Wordpress-Events-Page-Images-7.png
END:VEVENT
BEGIN:VEVENT
DTSTART;TZID=America/Los_Angeles:20260701T190000
DTEND;TZID=America/Los_Angeles:20260701T203000
DTSTAMP:20260421T081911
CREATED:20260108T005849Z
LAST-MODIFIED:20260108T005851Z
UID:10001245-1782932400-1782937800@www.sainthedwig.org
SUMMARY:Young Adult Ministry - Arts & Christ
DESCRIPTION:Every First Wednesday of the Month at 7:00 PM. Our Lady of Guadalupe Room\, Parish Center. \n\n\n\nJoin us for a faith-filled evening of creativity\, community\, and reflection as we create Catholic religious crafts together. \n\n\n\nInfo: George (562-296-9041) | Eric (562-296-9020)
URL:https://www.sainthedwig.org/event/young-adult-ministry-arts-christ/2026-07-01/
ATTACH;FMTTYPE=image/png:https://www.sainthedwig.org/wp-content/uploads/2026/01/Wordpress-Events-Page-Images-7.png
END:VEVENT
BEGIN:VEVENT
DTSTART;TZID=America/Los_Angeles:20260805T190000
DTEND;TZID=America/Los_Angeles:20260805T203000
DTSTAMP:20260421T081911
CREATED:20260108T005849Z
LAST-MODIFIED:20260108T005851Z
UID:10001246-1785956400-1785961800@www.sainthedwig.org
SUMMARY:Young Adult Ministry - Arts & Christ
DESCRIPTION:Every First Wednesday of the Month at 7:00 PM. Our Lady of Guadalupe Room\, Parish Center. \n\n\n\nJoin us for a faith-filled evening of creativity\, community\, and reflection as we create Catholic religious crafts together. \n\n\n\nInfo: George (562-296-9041) | Eric (562-296-9020)
URL:https://www.sainthedwig.org/event/young-adult-ministry-arts-christ/2026-08-05/
ATTACH;FMTTYPE=image/png:https://www.sainthedwig.org/wp-content/uploads/2026/01/Wordpress-Events-Page-Images-7.png
END:VEVENT
BEGIN:VEVENT
DTSTART;TZID=America/Los_Angeles:20260902T190000
DTEND;TZID=America/Los_Angeles:20260902T203000
DTSTAMP:20260421T081911
CREATED:20260108T005849Z
LAST-MODIFIED:20260108T005851Z
UID:10001247-1788375600-1788381000@www.sainthedwig.org
SUMMARY:Young Adult Ministry - Arts & Christ
DESCRIPTION:Every First Wednesday of the Month at 7:00 PM. Our Lady of Guadalupe Room\, Parish Center. \n\n\n\nJoin us for a faith-filled evening of creativity\, community\, and reflection as we create Catholic religious crafts together. \n\n\n\nInfo: George (562-296-9041) | Eric (562-296-9020)
URL:https://www.sainthedwig.org/event/young-adult-ministry-arts-christ/2026-09-02/
ATTACH;FMTTYPE=image/png:https://www.sainthedwig.org/wp-content/uploads/2026/01/Wordpress-Events-Page-Images-7.png
END:VEVENT
BEGIN:VEVENT
DTSTART;TZID=America/Los_Angeles:20261007T190000
DTEND;TZID=America/Los_Angeles:20261007T203000
DTSTAMP:20260421T081911
CREATED:20260108T005849Z
LAST-MODIFIED:20260108T005851Z
UID:10001248-1791399600-1791405000@www.sainthedwig.org
SUMMARY:Young Adult Ministry - Arts & Christ
DESCRIPTION:Every First Wednesday of the Month at 7:00 PM. Our Lady of Guadalupe Room\, Parish Center. \n\n\n\nJoin us for a faith-filled evening of creativity\, community\, and reflection as we create Catholic religious crafts together. \n\n\n\nInfo: George (562-296-9041) | Eric (562-296-9020)
URL:https://www.sainthedwig.org/event/young-adult-ministry-arts-christ/2026-10-07/
ATTACH;FMTTYPE=image/png:https://www.sainthedwig.org/wp-content/uploads/2026/01/Wordpress-Events-Page-Images-7.png
END:VEVENT
BEGIN:VEVENT
DTSTART;TZID=America/Los_Angeles:20261104T190000
DTEND;TZID=America/Los_Angeles:20261104T203000
DTSTAMP:20260421T081911
CREATED:20260108T005849Z
LAST-MODIFIED:20260108T005851Z
UID:10001249-1793818800-1793824200@www.sainthedwig.org
SUMMARY:Young Adult Ministry - Arts & Christ
DESCRIPTION:Every First Wednesday of the Month at 7:00 PM. Our Lady of Guadalupe Room\, Parish Center. \n\n\n\nJoin us for a faith-filled evening of creativity\, community\, and reflection as we create Catholic religious crafts together. \n\n\n\nInfo: George (562-296-9041) | Eric (562-296-9020)
URL:https://www.sainthedwig.org/event/young-adult-ministry-arts-christ/2026-11-04/
ATTACH;FMTTYPE=image/png:https://www.sainthedwig.org/wp-content/uploads/2026/01/Wordpress-Events-Page-Images-7.png
END:VEVENT
BEGIN:VEVENT
DTSTART;TZID=America/Los_Angeles:20261202T190000
DTEND;TZID=America/Los_Angeles:20261202T203000
DTSTAMP:20260421T081911
CREATED:20260108T005849Z
LAST-MODIFIED:20260108T005851Z
UID:10001250-1796238000-1796243400@www.sainthedwig.org
SUMMARY:Young Adult Ministry - Arts & Christ
DESCRIPTION:Every First Wednesday of the Month at 7:00 PM. Our Lady of Guadalupe Room\, Parish Center. \n\n\n\nJoin us for a faith-filled evening of creativity\, community\, and reflection as we create Catholic religious crafts together. \n\n\n\nInfo: George (562-296-9041) | Eric (562-296-9020)
URL:https://www.sainthedwig.org/event/young-adult-ministry-arts-christ/2026-12-02/
ATTACH;FMTTYPE=image/png:https://www.sainthedwig.org/wp-content/uploads/2026/01/Wordpress-Events-Page-Images-7.png
END:VEVENT
BEGIN:VEVENT
DTSTART;TZID=America/Los_Angeles:20270106T190000
DTEND;TZID=America/Los_Angeles:20270106T203000
DTSTAMP:20260421T081911
CREATED:20260108T005849Z
LAST-MODIFIED:20260108T005851Z
UID:10001251-1799262000-1799267400@www.sainthedwig.org
SUMMARY:Young Adult Ministry - Arts & Christ
DESCRIPTION:Every First Wednesday of the Month at 7:00 PM. Our Lady of Guadalupe Room\, Parish Center. \n\n\n\nJoin us for a faith-filled evening of creativity\, community\, and reflection as we create Catholic religious crafts together. \n\n\n\nInfo: George (562-296-9041) | Eric (562-296-9020)
URL:https://www.sainthedwig.org/event/young-adult-ministry-arts-christ/2027-01-06/
ATTACH;FMTTYPE=image/png:https://www.sainthedwig.org/wp-content/uploads/2026/01/Wordpress-Events-Page-Images-7.png
END:VEVENT
BEGIN:VEVENT
DTSTART;TZID=America/Los_Angeles:20270203T190000
DTEND;TZID=America/Los_Angeles:20270203T203000
DTSTAMP:20260421T081911
CREATED:20260108T005849Z
LAST-MODIFIED:20260108T005851Z
UID:10001252-1801681200-1801686600@www.sainthedwig.org
SUMMARY:Young Adult Ministry - Arts & Christ
DESCRIPTION:Every First Wednesday of the Month at 7:00 PM. Our Lady of Guadalupe Room\, Parish Center. \n\n\n\nJoin us for a faith-filled evening of creativity\, community\, and reflection as we create Catholic religious crafts together. \n\n\n\nInfo: George (562-296-9041) | Eric (562-296-9020)
URL:https://www.sainthedwig.org/event/young-adult-ministry-arts-christ/2027-02-03/
ATTACH;FMTTYPE=image/png:https://www.sainthedwig.org/wp-content/uploads/2026/01/Wordpress-Events-Page-Images-7.png
END:VEVENT
BEGIN:VEVENT
DTSTART;TZID=America/Los_Angeles:20270303T190000
DTEND;TZID=America/Los_Angeles:20270303T203000
DTSTAMP:20260421T081911
CREATED:20260108T005849Z
LAST-MODIFIED:20260108T005851Z
UID:10001253-1804100400-1804105800@www.sainthedwig.org
SUMMARY:Young Adult Ministry - Arts & Christ
DESCRIPTION:Every First Wednesday of the Month at 7:00 PM. Our Lady of Guadalupe Room\, Parish Center. \n\n\n\nJoin us for a faith-filled evening of creativity\, community\, and reflection as we create Catholic religious crafts together. \n\n\n\nInfo: George (562-296-9041) | Eric (562-296-9020)
URL:https://www.sainthedwig.org/event/young-adult-ministry-arts-christ/2027-03-03/
ATTACH;FMTTYPE=image/png:https://www.sainthedwig.org/wp-content/uploads/2026/01/Wordpress-Events-Page-Images-7.png
END:VEVENT
BEGIN:VEVENT
DTSTART;TZID=America/Los_Angeles:20270407T190000
DTEND;TZID=America/Los_Angeles:20270407T203000
DTSTAMP:20260421T081911
CREATED:20260108T005849Z
LAST-MODIFIED:20260108T005851Z
UID:10001254-1807124400-1807129800@www.sainthedwig.org
SUMMARY:Young Adult Ministry - Arts & Christ
DESCRIPTION:Every First Wednesday of the Month at 7:00 PM. Our Lady of Guadalupe Room\, Parish Center. \n\n\n\nJoin us for a faith-filled evening of creativity\, community\, and reflection as we create Catholic religious crafts together. \n\n\n\nInfo: George (562-296-9041) | Eric (562-296-9020)
URL:https://www.sainthedwig.org/event/young-adult-ministry-arts-christ/2027-04-07/
ATTACH;FMTTYPE=image/png:https://www.sainthedwig.org/wp-content/uploads/2026/01/Wordpress-Events-Page-Images-7.png
END:VEVENT
BEGIN:VEVENT
DTSTART;TZID=America/Los_Angeles:20270505T190000
DTEND;TZID=America/Los_Angeles:20270505T203000
DTSTAMP:20260421T081911
CREATED:20260108T005849Z
LAST-MODIFIED:20260108T005851Z
UID:10001255-1809543600-1809549000@www.sainthedwig.org
SUMMARY:Young Adult Ministry - Arts & Christ
DESCRIPTION:Every First Wednesday of the Month at 7:00 PM. Our Lady of Guadalupe Room\, Parish Center. \n\n\n\nJoin us for a faith-filled evening of creativity\, community\, and reflection as we create Catholic religious crafts together. \n\n\n\nInfo: George (562-296-9041) | Eric (562-296-9020)
URL:https://www.sainthedwig.org/event/young-adult-ministry-arts-christ/2027-05-05/
ATTACH;FMTTYPE=image/png:https://www.sainthedwig.org/wp-content/uploads/2026/01/Wordpress-Events-Page-Images-7.png
END:VEVENT
BEGIN:VEVENT
DTSTART;TZID=America/Los_Angeles:20270602T190000
DTEND;TZID=America/Los_Angeles:20270602T203000
DTSTAMP:20260421T081911
CREATED:20260108T005849Z
LAST-MODIFIED:20260108T005851Z
UID:10001256-1811962800-1811968200@www.sainthedwig.org
SUMMARY:Young Adult Ministry - Arts & Christ
DESCRIPTION:Every First Wednesday of the Month at 7:00 PM. Our Lady of Guadalupe Room\, Parish Center. \n\n\n\nJoin us for a faith-filled evening of creativity\, community\, and reflection as we create Catholic religious crafts together. \n\n\n\nInfo: George (562-296-9041) | Eric (562-296-9020)
URL:https://www.sainthedwig.org/event/young-adult-ministry-arts-christ/2027-06-02/
ATTACH;FMTTYPE=image/png:https://www.sainthedwig.org/wp-content/uploads/2026/01/Wordpress-Events-Page-Images-7.png
END:VEVENT
BEGIN:VEVENT
DTSTART;TZID=America/Los_Angeles:20270707T190000
DTEND;TZID=America/Los_Angeles:20270707T203000
DTSTAMP:20260421T081911
CREATED:20260108T005849Z
LAST-MODIFIED:20260108T005851Z
UID:10001257-1814986800-1814992200@www.sainthedwig.org
SUMMARY:Young Adult Ministry - Arts & Christ
DESCRIPTION:Every First Wednesday of the Month at 7:00 PM. Our Lady of Guadalupe Room\, Parish Center. \n\n\n\nJoin us for a faith-filled evening of creativity\, community\, and reflection as we create Catholic religious crafts together. \n\n\n\nInfo: George (562-296-9041) | Eric (562-296-9020)
URL:https://www.sainthedwig.org/event/young-adult-ministry-arts-christ/2027-07-07/
ATTACH;FMTTYPE=image/png:https://www.sainthedwig.org/wp-content/uploads/2026/01/Wordpress-Events-Page-Images-7.png
END:VEVENT
BEGIN:VEVENT
DTSTART;TZID=America/Los_Angeles:20270804T190000
DTEND;TZID=America/Los_Angeles:20270804T203000
DTSTAMP:20260421T081911
CREATED:20260108T005849Z
LAST-MODIFIED:20260108T005851Z
UID:10001258-1817406000-1817411400@www.sainthedwig.org
SUMMARY:Young Adult Ministry - Arts & Christ
DESCRIPTION:Every First Wednesday of the Month at 7:00 PM. Our Lady of Guadalupe Room\, Parish Center. \n\n\n\nJoin us for a faith-filled evening of creativity\, community\, and reflection as we create Catholic religious crafts together. \n\n\n\nInfo: George (562-296-9041) | Eric (562-296-9020)
URL:https://www.sainthedwig.org/event/young-adult-ministry-arts-christ/2027-08-04/
ATTACH;FMTTYPE=image/png:https://www.sainthedwig.org/wp-content/uploads/2026/01/Wordpress-Events-Page-Images-7.png
END:VEVENT
BEGIN:VEVENT
DTSTART;TZID=America/Los_Angeles:20270901T190000
DTEND;TZID=America/Los_Angeles:20270901T203000
DTSTAMP:20260421T081911
CREATED:20260108T005849Z
LAST-MODIFIED:20260108T005851Z
UID:10001259-1819825200-1819830600@www.sainthedwig.org
SUMMARY:Young Adult Ministry - Arts & Christ
DESCRIPTION:Every First Wednesday of the Month at 7:00 PM. Our Lady of Guadalupe Room\, Parish Center. \n\n\n\nJoin us for a faith-filled evening of creativity\, community\, and reflection as we create Catholic religious crafts together. \n\n\n\nInfo: George (562-296-9041) | Eric (562-296-9020)
URL:https://www.sainthedwig.org/event/young-adult-ministry-arts-christ/2027-09-01/
ATTACH;FMTTYPE=image/png:https://www.sainthedwig.org/wp-content/uploads/2026/01/Wordpress-Events-Page-Images-7.png
END:VEVENT
BEGIN:VEVENT
DTSTART;TZID=America/Los_Angeles:20271006T190000
DTEND;TZID=America/Los_Angeles:20271006T203000
DTSTAMP:20260421T081911
CREATED:20260108T005849Z
LAST-MODIFIED:20260108T005851Z
UID:10001260-1822849200-1822854600@www.sainthedwig.org
SUMMARY:Young Adult Ministry - Arts & Christ
DESCRIPTION:Every First Wednesday of the Month at 7:00 PM. Our Lady of Guadalupe Room\, Parish Center. \n\n\n\nJoin us for a faith-filled evening of creativity\, community\, and reflection as we create Catholic religious crafts together. \n\n\n\nInfo: George (562-296-9041) | Eric (562-296-9020)
URL:https://www.sainthedwig.org/event/young-adult-ministry-arts-christ/2027-10-06/
ATTACH;FMTTYPE=image/png:https://www.sainthedwig.org/wp-content/uploads/2026/01/Wordpress-Events-Page-Images-7.png
END:VEVENT
BEGIN:VEVENT
DTSTART;TZID=America/Los_Angeles:20271103T190000
DTEND;TZID=America/Los_Angeles:20271103T203000
DTSTAMP:20260421T081911
CREATED:20260108T005849Z
LAST-MODIFIED:20260108T005851Z
UID:10001261-1825268400-1825273800@www.sainthedwig.org
SUMMARY:Young Adult Ministry - Arts & Christ
DESCRIPTION:Every First Wednesday of the Month at 7:00 PM. Our Lady of Guadalupe Room\, Parish Center. \n\n\n\nJoin us for a faith-filled evening of creativity\, community\, and reflection as we create Catholic religious crafts together. \n\n\n\nInfo: George (562-296-9041) | Eric (562-296-9020)
URL:https://www.sainthedwig.org/event/young-adult-ministry-arts-christ/2027-11-03/
ATTACH;FMTTYPE=image/png:https://www.sainthedwig.org/wp-content/uploads/2026/01/Wordpress-Events-Page-Images-7.png
END:VEVENT
BEGIN:VEVENT
DTSTART;TZID=America/Los_Angeles:20271201T190000
DTEND;TZID=America/Los_Angeles:20271201T203000
DTSTAMP:20260421T081911
CREATED:20260108T005849Z
LAST-MODIFIED:20260108T005851Z
UID:10001262-1827687600-1827693000@www.sainthedwig.org
SUMMARY:Young Adult Ministry - Arts & Christ
DESCRIPTION:Every First Wednesday of the Month at 7:00 PM. Our Lady of Guadalupe Room\, Parish Center. \n\n\n\nJoin us for a faith-filled evening of creativity\, community\, and reflection as we create Catholic religious crafts together. \n\n\n\nInfo: George (562-296-9041) | Eric (562-296-9020)
URL:https://www.sainthedwig.org/event/young-adult-ministry-arts-christ/2027-12-01/
ATTACH;FMTTYPE=image/png:https://www.sainthedwig.org/wp-content/uploads/2026/01/Wordpress-Events-Page-Images-7.png
END:VEVENT
BEGIN:VEVENT
DTSTART;TZID=America/Los_Angeles:20280105T190000
DTEND;TZID=America/Los_Angeles:20280105T203000
DTSTAMP:20260421T081911
CREATED:20260108T005849Z
LAST-MODIFIED:20260108T005851Z
UID:10001263-1830711600-1830717000@www.sainthedwig.org
SUMMARY:Young Adult Ministry - Arts & Christ
DESCRIPTION:Every First Wednesday of the Month at 7:00 PM. Our Lady of Guadalupe Room\, Parish Center. \n\n\n\nJoin us for a faith-filled evening of creativity\, community\, and reflection as we create Catholic religious crafts together. \n\n\n\nInfo: George (562-296-9041) | Eric (562-296-9020)
URL:https://www.sainthedwig.org/event/young-adult-ministry-arts-christ/2028-01-05/
ATTACH;FMTTYPE=image/png:https://www.sainthedwig.org/wp-content/uploads/2026/01/Wordpress-Events-Page-Images-7.png
END:VEVENT
BEGIN:VEVENT
DTSTART;TZID=America/Los_Angeles:20280202T190000
DTEND;TZID=America/Los_Angeles:20280202T203000
DTSTAMP:20260421T081911
CREATED:20260108T005849Z
LAST-MODIFIED:20260108T005851Z
UID:10001264-1833130800-1833136200@www.sainthedwig.org
SUMMARY:Young Adult Ministry - Arts & Christ
DESCRIPTION:Every First Wednesday of the Month at 7:00 PM. Our Lady of Guadalupe Room\, Parish Center. \n\n\n\nJoin us for a faith-filled evening of creativity\, community\, and reflection as we create Catholic religious crafts together. \n\n\n\nInfo: George (562-296-9041) | Eric (562-296-9020)
URL:https://www.sainthedwig.org/event/young-adult-ministry-arts-christ/2028-02-02/
ATTACH;FMTTYPE=image/png:https://www.sainthedwig.org/wp-content/uploads/2026/01/Wordpress-Events-Page-Images-7.png
END:VEVENT
BEGIN:VEVENT
DTSTART;TZID=America/Los_Angeles:20280301T190000
DTEND;TZID=America/Los_Angeles:20280301T203000
DTSTAMP:20260421T081911
CREATED:20260108T005849Z
LAST-MODIFIED:20260108T005851Z
UID:10001265-1835550000-1835555400@www.sainthedwig.org
SUMMARY:Young Adult Ministry - Arts & Christ
DESCRIPTION:Every First Wednesday of the Month at 7:00 PM. Our Lady of Guadalupe Room\, Parish Center. \n\n\n\nJoin us for a faith-filled evening of creativity\, community\, and reflection as we create Catholic religious crafts together. \n\n\n\nInfo: George (562-296-9041) | Eric (562-296-9020)
URL:https://www.sainthedwig.org/event/young-adult-ministry-arts-christ/2028-03-01/
ATTACH;FMTTYPE=image/png:https://www.sainthedwig.org/wp-content/uploads/2026/01/Wordpress-Events-Page-Images-7.png
END:VEVENT
BEGIN:VEVENT
DTSTART;TZID=America/Los_Angeles:20280405T190000
DTEND;TZID=America/Los_Angeles:20280405T203000
DTSTAMP:20260421T081911
CREATED:20260108T005849Z
LAST-MODIFIED:20260108T005851Z
UID:10001266-1838574000-1838579400@www.sainthedwig.org
SUMMARY:Young Adult Ministry - Arts & Christ
DESCRIPTION:Every First Wednesday of the Month at 7:00 PM. Our Lady of Guadalupe Room\, Parish Center. \n\n\n\nJoin us for a faith-filled evening of creativity\, community\, and reflection as we create Catholic religious crafts together. \n\n\n\nInfo: George (562-296-9041) | Eric (562-296-9020)
URL:https://www.sainthedwig.org/event/young-adult-ministry-arts-christ/2028-04-05/
ATTACH;FMTTYPE=image/png:https://www.sainthedwig.org/wp-content/uploads/2026/01/Wordpress-Events-Page-Images-7.png
END:VEVENT
BEGIN:VEVENT
DTSTART;TZID=America/Los_Angeles:20280503T190000
DTEND;TZID=America/Los_Angeles:20280503T203000
DTSTAMP:20260421T081911
CREATED:20260108T005849Z
LAST-MODIFIED:20260108T005851Z
UID:10001267-1840993200-1840998600@www.sainthedwig.org
SUMMARY:Young Adult Ministry - Arts & Christ
DESCRIPTION:Every First Wednesday of the Month at 7:00 PM. Our Lady of Guadalupe Room\, Parish Center. \n\n\n\nJoin us for a faith-filled evening of creativity\, community\, and reflection as we create Catholic religious crafts together. \n\n\n\nInfo: George (562-296-9041) | Eric (562-296-9020)
URL:https://www.sainthedwig.org/event/young-adult-ministry-arts-christ/2028-05-03/
ATTACH;FMTTYPE=image/png:https://www.sainthedwig.org/wp-content/uploads/2026/01/Wordpress-Events-Page-Images-7.png
END:VEVENT
BEGIN:VEVENT
DTSTART;TZID=America/Los_Angeles:20280607T190000
DTEND;TZID=America/Los_Angeles:20280607T203000
DTSTAMP:20260421T081911
CREATED:20260108T005849Z
LAST-MODIFIED:20260108T005851Z
UID:10001268-1844017200-1844022600@www.sainthedwig.org
SUMMARY:Young Adult Ministry - Arts & Christ
DESCRIPTION:Every First Wednesday of the Month at 7:00 PM. Our Lady of Guadalupe Room\, Parish Center. \n\n\n\nJoin us for a faith-filled evening of creativity\, community\, and reflection as we create Catholic religious crafts together. \n\n\n\nInfo: George (562-296-9041) | Eric (562-296-9020)
URL:https://www.sainthedwig.org/event/young-adult-ministry-arts-christ/2028-06-07/
ATTACH;FMTTYPE=image/png:https://www.sainthedwig.org/wp-content/uploads/2026/01/Wordpress-Events-Page-Images-7.png
END:VEVENT
BEGIN:VEVENT
DTSTART;TZID=America/Los_Angeles:20280705T190000
DTEND;TZID=America/Los_Angeles:20280705T203000
DTSTAMP:20260421T081911
CREATED:20260108T005849Z
LAST-MODIFIED:20260108T005851Z
UID:10001269-1846436400-1846441800@www.sainthedwig.org
SUMMARY:Young Adult Ministry - Arts & Christ
DESCRIPTION:Every First Wednesday of the Month at 7:00 PM. Our Lady of Guadalupe Room\, Parish Center. \n\n\n\nJoin us for a faith-filled evening of creativity\, community\, and reflection as we create Catholic religious crafts together. \n\n\n\nInfo: George (562-296-9041) | Eric (562-296-9020)
URL:https://www.sainthedwig.org/event/young-adult-ministry-arts-christ/2028-07-05/
ATTACH;FMTTYPE=image/png:https://www.sainthedwig.org/wp-content/uploads/2026/01/Wordpress-Events-Page-Images-7.png
END:VEVENT
BEGIN:VEVENT
DTSTART;TZID=America/Los_Angeles:20280802T190000
DTEND;TZID=America/Los_Angeles:20280802T203000
DTSTAMP:20260421T081911
CREATED:20260108T005849Z
LAST-MODIFIED:20260108T005851Z
UID:10001270-1848855600-1848861000@www.sainthedwig.org
SUMMARY:Young Adult Ministry - Arts & Christ
DESCRIPTION:Every First Wednesday of the Month at 7:00 PM. Our Lady of Guadalupe Room\, Parish Center. \n\n\n\nJoin us for a faith-filled evening of creativity\, community\, and reflection as we create Catholic religious crafts together. \n\n\n\nInfo: George (562-296-9041) | Eric (562-296-9020)
URL:https://www.sainthedwig.org/event/young-adult-ministry-arts-christ/2028-08-02/
ATTACH;FMTTYPE=image/png:https://www.sainthedwig.org/wp-content/uploads/2026/01/Wordpress-Events-Page-Images-7.png
END:VEVENT
BEGIN:VEVENT
DTSTART;TZID=America/Los_Angeles:20280906T190000
DTEND;TZID=America/Los_Angeles:20280906T203000
DTSTAMP:20260421T081911
CREATED:20260108T005849Z
LAST-MODIFIED:20260108T005851Z
UID:10001271-1851879600-1851885000@www.sainthedwig.org
SUMMARY:Young Adult Ministry - Arts & Christ
DESCRIPTION:Every First Wednesday of the Month at 7:00 PM. Our Lady of Guadalupe Room\, Parish Center. \n\n\n\nJoin us for a faith-filled evening of creativity\, community\, and reflection as we create Catholic religious crafts together. \n\n\n\nInfo: George (562-296-9041) | Eric (562-296-9020)
URL:https://www.sainthedwig.org/event/young-adult-ministry-arts-christ/2028-09-06/
ATTACH;FMTTYPE=image/png:https://www.sainthedwig.org/wp-content/uploads/2026/01/Wordpress-Events-Page-Images-7.png
END:VEVENT
BEGIN:VEVENT
DTSTART;TZID=America/Los_Angeles:20281004T190000
DTEND;TZID=America/Los_Angeles:20281004T203000
DTSTAMP:20260421T081911
CREATED:20260108T005849Z
LAST-MODIFIED:20260108T005851Z
UID:10001272-1854298800-1854304200@www.sainthedwig.org
SUMMARY:Young Adult Ministry - Arts & Christ
DESCRIPTION:Every First Wednesday of the Month at 7:00 PM. Our Lady of Guadalupe Room\, Parish Center. \n\n\n\nJoin us for a faith-filled evening of creativity\, community\, and reflection as we create Catholic religious crafts together. \n\n\n\nInfo: George (562-296-9041) | Eric (562-296-9020)
URL:https://www.sainthedwig.org/event/young-adult-ministry-arts-christ/2028-10-04/
ATTACH;FMTTYPE=image/png:https://www.sainthedwig.org/wp-content/uploads/2026/01/Wordpress-Events-Page-Images-7.png
END:VEVENT
END:VCALENDAR