BEGIN:VCALENDAR
VERSION:2.0
PRODID:-//Saint Hedwig Catholic Church - ECPv6.15.17.1//NONSGML v1.0//EN
CALSCALE:GREGORIAN
METHOD:PUBLISH
X-ORIGINAL-URL:https://www.sainthedwig.org
X-WR-CALDESC:Events for Saint Hedwig Catholic Church
REFRESH-INTERVAL;VALUE=DURATION:PT1H
X-Robots-Tag:noindex
X-PUBLISHED-TTL:PT1H
BEGIN:VTIMEZONE
TZID:America/Los_Angeles
BEGIN:DAYLIGHT
TZOFFSETFROM:-0800
TZOFFSETTO:-0700
TZNAME:PDT
DTSTART:20260308T100000
END:DAYLIGHT
BEGIN:STANDARD
TZOFFSETFROM:-0700
TZOFFSETTO:-0800
TZNAME:PST
DTSTART:20261101T090000
END:STANDARD
BEGIN:DAYLIGHT
TZOFFSETFROM:-0800
TZOFFSETTO:-0700
TZNAME:PDT
DTSTART:20270314T100000
END:DAYLIGHT
BEGIN:STANDARD
TZOFFSETFROM:-0700
TZOFFSETTO:-0800
TZNAME:PST
DTSTART:20271107T090000
END:STANDARD
BEGIN:DAYLIGHT
TZOFFSETFROM:-0800
TZOFFSETTO:-0700
TZNAME:PDT
DTSTART:20280312T100000
END:DAYLIGHT
BEGIN:STANDARD
TZOFFSETFROM:-0700
TZOFFSETTO:-0800
TZNAME:PST
DTSTART:20281105T090000
END:STANDARD
BEGIN:DAYLIGHT
TZOFFSETFROM:-0800
TZOFFSETTO:-0700
TZNAME:PDT
DTSTART:20290311T100000
END:DAYLIGHT
BEGIN:STANDARD
TZOFFSETFROM:-0700
TZOFFSETTO:-0800
TZNAME:PST
DTSTART:20291104T090000
END:STANDARD
END:VTIMEZONE
BEGIN:VEVENT
DTSTART;TZID=America/Los_Angeles:20270916T000000
DTEND;TZID=America/Los_Angeles:20270917T235959
DTSTAMP:20260423T063214
CREATED:20250910T002855Z
LAST-MODIFIED:20260217T213330Z
UID:10001377-1821052800-1821225599@www.sainthedwig.org
SUMMARY:24-Hour Adoration
DESCRIPTION:Come and be in His Presence! We have 24-hour Adoration on the 16th of every month starting after the 8:30 AM Mass. Benediction is the next morning at 8:15 AM. \n\n\n\nTo sign up visit: sainthedwig.weadorehim.com/.  \n\n\n\nHe’s waiting for you! \n\n\n\nThe church (Quinn Hall) is locked from 8:00 PM – 6:30 AM. An entry code is provided after signing up online.  \n\n\n\nQuestions? (562) 296-9098  \n\n\n\nEmail: Adoration@sainthedwig.org
URL:https://www.sainthedwig.org/event/24-hour-adoration-tuesday-sept-16-wednesday-sept-17/2027-09-16/
ATTACH;FMTTYPE=image/png:https://www.sainthedwig.org/wp-content/uploads/2025/09/E-Blast-Banners-NEW-4.png
END:VEVENT
BEGIN:VEVENT
DTSTART;TZID=America/Los_Angeles:20270920T193000
DTEND;TZID=America/Los_Angeles:20270920T203000
DTSTAMP:20260423T063214
CREATED:20251017T234916Z
LAST-MODIFIED:20260108T004714Z
UID:10000692-1821468600-1821472200@www.sainthedwig.org
SUMMARY:Young Adult Rosary & Bible Study
DESCRIPTION:Join us every Monday at 7:30 PM in the Our Lady of Guadalupe Room (Parish Center\, across from Quinn Hall) for a peaceful evening of prayer and fellowship. Open to young adults ages 18–36. \n\n\n\nJoin our GroupMe and stay connected. Email ebray@sainthedwig.org for the link. \n\n\n\nAll are welcome!
URL:https://www.sainthedwig.org/event/young-adult-rosary/2027-09-20/
ATTACH;FMTTYPE=image/png:https://www.sainthedwig.org/wp-content/uploads/2025/10/Wordpress-Events-Page-Images-6.png
END:VEVENT
BEGIN:VEVENT
DTSTART;TZID=America/Los_Angeles:20270926T131500
DTEND;TZID=America/Los_Angeles:20270926T141500
DTSTAMP:20260423T063214
CREATED:20250918T171719Z
LAST-MODIFIED:20260217T213519Z
UID:10001438-1821964500-1821968100@www.sainthedwig.org
SUMMARY:Rosary for Life
DESCRIPTION:Our Respect Life Ministry invites you to join in praying the Glorious Mysteries of the Rosary for the protection and dignity of all life\, from conception to natural death. \n\n\n\nWhen: Every last Sunday of the month at 1:15 PMWhere: Church \n\n\n\nAll are welcome to participate in this powerful prayer for life. \n\n\n\nFor resources and more information\, visit: www.sainthedwig.org/respect-life/
URL:https://www.sainthedwig.org/event/rosary-for-life-4/2027-09-26/
ATTACH;FMTTYPE=image/png:https://www.sainthedwig.org/wp-content/uploads/2025/09/Wordpress-Events-Page-Images-12.png
END:VEVENT
BEGIN:VEVENT
DTSTART;TZID=America/Los_Angeles:20270927T193000
DTEND;TZID=America/Los_Angeles:20270927T203000
DTSTAMP:20260423T063214
CREATED:20251017T234916Z
LAST-MODIFIED:20260108T004714Z
UID:10000693-1822073400-1822077000@www.sainthedwig.org
SUMMARY:Young Adult Rosary & Bible Study
DESCRIPTION:Join us every Monday at 7:30 PM in the Our Lady of Guadalupe Room (Parish Center\, across from Quinn Hall) for a peaceful evening of prayer and fellowship. Open to young adults ages 18–36. \n\n\n\nJoin our GroupMe and stay connected. Email ebray@sainthedwig.org for the link. \n\n\n\nAll are welcome!
URL:https://www.sainthedwig.org/event/young-adult-rosary/2027-09-27/
ATTACH;FMTTYPE=image/png:https://www.sainthedwig.org/wp-content/uploads/2025/10/Wordpress-Events-Page-Images-6.png
END:VEVENT
BEGIN:VEVENT
DTSTART;TZID=America/Los_Angeles:20271004T193000
DTEND;TZID=America/Los_Angeles:20271004T203000
DTSTAMP:20260423T063214
CREATED:20251017T234916Z
LAST-MODIFIED:20260108T004714Z
UID:10000694-1822678200-1822681800@www.sainthedwig.org
SUMMARY:Young Adult Rosary & Bible Study
DESCRIPTION:Join us every Monday at 7:30 PM in the Our Lady of Guadalupe Room (Parish Center\, across from Quinn Hall) for a peaceful evening of prayer and fellowship. Open to young adults ages 18–36. \n\n\n\nJoin our GroupMe and stay connected. Email ebray@sainthedwig.org for the link. \n\n\n\nAll are welcome!
URL:https://www.sainthedwig.org/event/young-adult-rosary/2027-10-04/
ATTACH;FMTTYPE=image/png:https://www.sainthedwig.org/wp-content/uploads/2025/10/Wordpress-Events-Page-Images-6.png
END:VEVENT
BEGIN:VEVENT
DTSTART;TZID=America/Los_Angeles:20271006T190000
DTEND;TZID=America/Los_Angeles:20271006T203000
DTSTAMP:20260423T063214
CREATED:20260108T005849Z
LAST-MODIFIED:20260108T005851Z
UID:10001260-1822849200-1822854600@www.sainthedwig.org
SUMMARY:Young Adult Ministry - Arts & Christ
DESCRIPTION:Every First Wednesday of the Month at 7:00 PM. Our Lady of Guadalupe Room\, Parish Center. \n\n\n\nJoin us for a faith-filled evening of creativity\, community\, and reflection as we create Catholic religious crafts together. \n\n\n\nInfo: George (562-296-9041) | Eric (562-296-9020)
URL:https://www.sainthedwig.org/event/young-adult-ministry-arts-christ/2027-10-06/
ATTACH;FMTTYPE=image/png:https://www.sainthedwig.org/wp-content/uploads/2026/01/Wordpress-Events-Page-Images-7.png
END:VEVENT
BEGIN:VEVENT
DTSTART;TZID=America/Los_Angeles:20271011T193000
DTEND;TZID=America/Los_Angeles:20271011T203000
DTSTAMP:20260423T063214
CREATED:20251017T234916Z
LAST-MODIFIED:20260108T004714Z
UID:10000695-1823283000-1823286600@www.sainthedwig.org
SUMMARY:Young Adult Rosary & Bible Study
DESCRIPTION:Join us every Monday at 7:30 PM in the Our Lady of Guadalupe Room (Parish Center\, across from Quinn Hall) for a peaceful evening of prayer and fellowship. Open to young adults ages 18–36. \n\n\n\nJoin our GroupMe and stay connected. Email ebray@sainthedwig.org for the link. \n\n\n\nAll are welcome!
URL:https://www.sainthedwig.org/event/young-adult-rosary/2027-10-11/
ATTACH;FMTTYPE=image/png:https://www.sainthedwig.org/wp-content/uploads/2025/10/Wordpress-Events-Page-Images-6.png
END:VEVENT
BEGIN:VEVENT
DTSTART;TZID=America/Los_Angeles:20271016T000000
DTEND;TZID=America/Los_Angeles:20271017T235959
DTSTAMP:20260423T063214
CREATED:20250910T002855Z
LAST-MODIFIED:20260217T213330Z
UID:10001378-1823644800-1823817599@www.sainthedwig.org
SUMMARY:24-Hour Adoration
DESCRIPTION:Come and be in His Presence! We have 24-hour Adoration on the 16th of every month starting after the 8:30 AM Mass. Benediction is the next morning at 8:15 AM. \n\n\n\nTo sign up visit: sainthedwig.weadorehim.com/.  \n\n\n\nHe’s waiting for you! \n\n\n\nThe church (Quinn Hall) is locked from 8:00 PM – 6:30 AM. An entry code is provided after signing up online.  \n\n\n\nQuestions? (562) 296-9098  \n\n\n\nEmail: Adoration@sainthedwig.org
URL:https://www.sainthedwig.org/event/24-hour-adoration-tuesday-sept-16-wednesday-sept-17/2027-10-16/
ATTACH;FMTTYPE=image/png:https://www.sainthedwig.org/wp-content/uploads/2025/09/E-Blast-Banners-NEW-4.png
END:VEVENT
BEGIN:VEVENT
DTSTART;TZID=America/Los_Angeles:20271018T193000
DTEND;TZID=America/Los_Angeles:20271018T203000
DTSTAMP:20260423T063214
CREATED:20251017T234916Z
LAST-MODIFIED:20260108T004714Z
UID:10000696-1823887800-1823891400@www.sainthedwig.org
SUMMARY:Young Adult Rosary & Bible Study
DESCRIPTION:Join us every Monday at 7:30 PM in the Our Lady of Guadalupe Room (Parish Center\, across from Quinn Hall) for a peaceful evening of prayer and fellowship. Open to young adults ages 18–36. \n\n\n\nJoin our GroupMe and stay connected. Email ebray@sainthedwig.org for the link. \n\n\n\nAll are welcome!
URL:https://www.sainthedwig.org/event/young-adult-rosary/2027-10-18/
ATTACH;FMTTYPE=image/png:https://www.sainthedwig.org/wp-content/uploads/2025/10/Wordpress-Events-Page-Images-6.png
END:VEVENT
BEGIN:VEVENT
DTSTART;TZID=America/Los_Angeles:20271025T193000
DTEND;TZID=America/Los_Angeles:20271025T203000
DTSTAMP:20260423T063214
CREATED:20251017T234916Z
LAST-MODIFIED:20260108T004714Z
UID:10000697-1824492600-1824496200@www.sainthedwig.org
SUMMARY:Young Adult Rosary & Bible Study
DESCRIPTION:Join us every Monday at 7:30 PM in the Our Lady of Guadalupe Room (Parish Center\, across from Quinn Hall) for a peaceful evening of prayer and fellowship. Open to young adults ages 18–36. \n\n\n\nJoin our GroupMe and stay connected. Email ebray@sainthedwig.org for the link. \n\n\n\nAll are welcome!
URL:https://www.sainthedwig.org/event/young-adult-rosary/2027-10-25/
ATTACH;FMTTYPE=image/png:https://www.sainthedwig.org/wp-content/uploads/2025/10/Wordpress-Events-Page-Images-6.png
END:VEVENT
BEGIN:VEVENT
DTSTART;TZID=America/Los_Angeles:20271031T131500
DTEND;TZID=America/Los_Angeles:20271031T141500
DTSTAMP:20260423T063214
CREATED:20250918T171719Z
LAST-MODIFIED:20260217T213519Z
UID:10001439-1824988500-1824992100@www.sainthedwig.org
SUMMARY:Rosary for Life
DESCRIPTION:Our Respect Life Ministry invites you to join in praying the Glorious Mysteries of the Rosary for the protection and dignity of all life\, from conception to natural death. \n\n\n\nWhen: Every last Sunday of the month at 1:15 PMWhere: Church \n\n\n\nAll are welcome to participate in this powerful prayer for life. \n\n\n\nFor resources and more information\, visit: www.sainthedwig.org/respect-life/
URL:https://www.sainthedwig.org/event/rosary-for-life-4/2027-10-31/
ATTACH;FMTTYPE=image/png:https://www.sainthedwig.org/wp-content/uploads/2025/09/Wordpress-Events-Page-Images-12.png
END:VEVENT
BEGIN:VEVENT
DTSTART;TZID=America/Los_Angeles:20271101T193000
DTEND;TZID=America/Los_Angeles:20271101T203000
DTSTAMP:20260423T063214
CREATED:20251017T234916Z
LAST-MODIFIED:20260108T004714Z
UID:10000698-1825097400-1825101000@www.sainthedwig.org
SUMMARY:Young Adult Rosary & Bible Study
DESCRIPTION:Join us every Monday at 7:30 PM in the Our Lady of Guadalupe Room (Parish Center\, across from Quinn Hall) for a peaceful evening of prayer and fellowship. Open to young adults ages 18–36. \n\n\n\nJoin our GroupMe and stay connected. Email ebray@sainthedwig.org for the link. \n\n\n\nAll are welcome!
URL:https://www.sainthedwig.org/event/young-adult-rosary/2027-11-01/
ATTACH;FMTTYPE=image/png:https://www.sainthedwig.org/wp-content/uploads/2025/10/Wordpress-Events-Page-Images-6.png
END:VEVENT
BEGIN:VEVENT
DTSTART;TZID=America/Los_Angeles:20271103T190000
DTEND;TZID=America/Los_Angeles:20271103T203000
DTSTAMP:20260423T063214
CREATED:20260108T005849Z
LAST-MODIFIED:20260108T005851Z
UID:10001261-1825268400-1825273800@www.sainthedwig.org
SUMMARY:Young Adult Ministry - Arts & Christ
DESCRIPTION:Every First Wednesday of the Month at 7:00 PM. Our Lady of Guadalupe Room\, Parish Center. \n\n\n\nJoin us for a faith-filled evening of creativity\, community\, and reflection as we create Catholic religious crafts together. \n\n\n\nInfo: George (562-296-9041) | Eric (562-296-9020)
URL:https://www.sainthedwig.org/event/young-adult-ministry-arts-christ/2027-11-03/
ATTACH;FMTTYPE=image/png:https://www.sainthedwig.org/wp-content/uploads/2026/01/Wordpress-Events-Page-Images-7.png
END:VEVENT
BEGIN:VEVENT
DTSTART;TZID=America/Los_Angeles:20271108T193000
DTEND;TZID=America/Los_Angeles:20271108T203000
DTSTAMP:20260423T063214
CREATED:20251017T234916Z
LAST-MODIFIED:20260108T004714Z
UID:10000699-1825702200-1825705800@www.sainthedwig.org
SUMMARY:Young Adult Rosary & Bible Study
DESCRIPTION:Join us every Monday at 7:30 PM in the Our Lady of Guadalupe Room (Parish Center\, across from Quinn Hall) for a peaceful evening of prayer and fellowship. Open to young adults ages 18–36. \n\n\n\nJoin our GroupMe and stay connected. Email ebray@sainthedwig.org for the link. \n\n\n\nAll are welcome!
URL:https://www.sainthedwig.org/event/young-adult-rosary/2027-11-08/
ATTACH;FMTTYPE=image/png:https://www.sainthedwig.org/wp-content/uploads/2025/10/Wordpress-Events-Page-Images-6.png
END:VEVENT
BEGIN:VEVENT
DTSTART;TZID=America/Los_Angeles:20271115T193000
DTEND;TZID=America/Los_Angeles:20271115T203000
DTSTAMP:20260423T063214
CREATED:20251017T234916Z
LAST-MODIFIED:20260108T004714Z
UID:10000700-1826307000-1826310600@www.sainthedwig.org
SUMMARY:Young Adult Rosary & Bible Study
DESCRIPTION:Join us every Monday at 7:30 PM in the Our Lady of Guadalupe Room (Parish Center\, across from Quinn Hall) for a peaceful evening of prayer and fellowship. Open to young adults ages 18–36. \n\n\n\nJoin our GroupMe and stay connected. Email ebray@sainthedwig.org for the link. \n\n\n\nAll are welcome!
URL:https://www.sainthedwig.org/event/young-adult-rosary/2027-11-15/
ATTACH;FMTTYPE=image/png:https://www.sainthedwig.org/wp-content/uploads/2025/10/Wordpress-Events-Page-Images-6.png
END:VEVENT
BEGIN:VEVENT
DTSTART;TZID=America/Los_Angeles:20271116T000000
DTEND;TZID=America/Los_Angeles:20271117T235959
DTSTAMP:20260423T063214
CREATED:20250910T002855Z
LAST-MODIFIED:20260217T213330Z
UID:10001379-1826323200-1826495999@www.sainthedwig.org
SUMMARY:24-Hour Adoration
DESCRIPTION:Come and be in His Presence! We have 24-hour Adoration on the 16th of every month starting after the 8:30 AM Mass. Benediction is the next morning at 8:15 AM. \n\n\n\nTo sign up visit: sainthedwig.weadorehim.com/.  \n\n\n\nHe’s waiting for you! \n\n\n\nThe church (Quinn Hall) is locked from 8:00 PM – 6:30 AM. An entry code is provided after signing up online.  \n\n\n\nQuestions? (562) 296-9098  \n\n\n\nEmail: Adoration@sainthedwig.org
URL:https://www.sainthedwig.org/event/24-hour-adoration-tuesday-sept-16-wednesday-sept-17/2027-11-16/
ATTACH;FMTTYPE=image/png:https://www.sainthedwig.org/wp-content/uploads/2025/09/E-Blast-Banners-NEW-4.png
END:VEVENT
BEGIN:VEVENT
DTSTART;TZID=America/Los_Angeles:20271122T193000
DTEND;TZID=America/Los_Angeles:20271122T203000
DTSTAMP:20260423T063214
CREATED:20251017T234916Z
LAST-MODIFIED:20260108T004714Z
UID:10000701-1826911800-1826915400@www.sainthedwig.org
SUMMARY:Young Adult Rosary & Bible Study
DESCRIPTION:Join us every Monday at 7:30 PM in the Our Lady of Guadalupe Room (Parish Center\, across from Quinn Hall) for a peaceful evening of prayer and fellowship. Open to young adults ages 18–36. \n\n\n\nJoin our GroupMe and stay connected. Email ebray@sainthedwig.org for the link. \n\n\n\nAll are welcome!
URL:https://www.sainthedwig.org/event/young-adult-rosary/2027-11-22/
ATTACH;FMTTYPE=image/png:https://www.sainthedwig.org/wp-content/uploads/2025/10/Wordpress-Events-Page-Images-6.png
END:VEVENT
BEGIN:VEVENT
DTSTART;TZID=America/Los_Angeles:20271128T131500
DTEND;TZID=America/Los_Angeles:20271128T141500
DTSTAMP:20260423T063214
CREATED:20250918T171719Z
LAST-MODIFIED:20260217T213519Z
UID:10001440-1827407700-1827411300@www.sainthedwig.org
SUMMARY:Rosary for Life
DESCRIPTION:Our Respect Life Ministry invites you to join in praying the Glorious Mysteries of the Rosary for the protection and dignity of all life\, from conception to natural death. \n\n\n\nWhen: Every last Sunday of the month at 1:15 PMWhere: Church \n\n\n\nAll are welcome to participate in this powerful prayer for life. \n\n\n\nFor resources and more information\, visit: www.sainthedwig.org/respect-life/
URL:https://www.sainthedwig.org/event/rosary-for-life-4/2027-11-28/
ATTACH;FMTTYPE=image/png:https://www.sainthedwig.org/wp-content/uploads/2025/09/Wordpress-Events-Page-Images-12.png
END:VEVENT
BEGIN:VEVENT
DTSTART;TZID=America/Los_Angeles:20271129T193000
DTEND;TZID=America/Los_Angeles:20271129T203000
DTSTAMP:20260423T063214
CREATED:20251017T234916Z
LAST-MODIFIED:20260108T004714Z
UID:10000702-1827516600-1827520200@www.sainthedwig.org
SUMMARY:Young Adult Rosary & Bible Study
DESCRIPTION:Join us every Monday at 7:30 PM in the Our Lady of Guadalupe Room (Parish Center\, across from Quinn Hall) for a peaceful evening of prayer and fellowship. Open to young adults ages 18–36. \n\n\n\nJoin our GroupMe and stay connected. Email ebray@sainthedwig.org for the link. \n\n\n\nAll are welcome!
URL:https://www.sainthedwig.org/event/young-adult-rosary/2027-11-29/
ATTACH;FMTTYPE=image/png:https://www.sainthedwig.org/wp-content/uploads/2025/10/Wordpress-Events-Page-Images-6.png
END:VEVENT
BEGIN:VEVENT
DTSTART;TZID=America/Los_Angeles:20271201T190000
DTEND;TZID=America/Los_Angeles:20271201T203000
DTSTAMP:20260423T063214
CREATED:20260108T005849Z
LAST-MODIFIED:20260108T005851Z
UID:10001262-1827687600-1827693000@www.sainthedwig.org
SUMMARY:Young Adult Ministry - Arts & Christ
DESCRIPTION:Every First Wednesday of the Month at 7:00 PM. Our Lady of Guadalupe Room\, Parish Center. \n\n\n\nJoin us for a faith-filled evening of creativity\, community\, and reflection as we create Catholic religious crafts together. \n\n\n\nInfo: George (562-296-9041) | Eric (562-296-9020)
URL:https://www.sainthedwig.org/event/young-adult-ministry-arts-christ/2027-12-01/
ATTACH;FMTTYPE=image/png:https://www.sainthedwig.org/wp-content/uploads/2026/01/Wordpress-Events-Page-Images-7.png
END:VEVENT
BEGIN:VEVENT
DTSTART;TZID=America/Los_Angeles:20271206T193000
DTEND;TZID=America/Los_Angeles:20271206T203000
DTSTAMP:20260423T063214
CREATED:20251017T234916Z
LAST-MODIFIED:20260108T004714Z
UID:10000703-1828121400-1828125000@www.sainthedwig.org
SUMMARY:Young Adult Rosary & Bible Study
DESCRIPTION:Join us every Monday at 7:30 PM in the Our Lady of Guadalupe Room (Parish Center\, across from Quinn Hall) for a peaceful evening of prayer and fellowship. Open to young adults ages 18–36. \n\n\n\nJoin our GroupMe and stay connected. Email ebray@sainthedwig.org for the link. \n\n\n\nAll are welcome!
URL:https://www.sainthedwig.org/event/young-adult-rosary/2027-12-06/
ATTACH;FMTTYPE=image/png:https://www.sainthedwig.org/wp-content/uploads/2025/10/Wordpress-Events-Page-Images-6.png
END:VEVENT
BEGIN:VEVENT
DTSTART;TZID=America/Los_Angeles:20271213T193000
DTEND;TZID=America/Los_Angeles:20271213T203000
DTSTAMP:20260423T063214
CREATED:20251017T234916Z
LAST-MODIFIED:20260108T004714Z
UID:10000704-1828726200-1828729800@www.sainthedwig.org
SUMMARY:Young Adult Rosary & Bible Study
DESCRIPTION:Join us every Monday at 7:30 PM in the Our Lady of Guadalupe Room (Parish Center\, across from Quinn Hall) for a peaceful evening of prayer and fellowship. Open to young adults ages 18–36. \n\n\n\nJoin our GroupMe and stay connected. Email ebray@sainthedwig.org for the link. \n\n\n\nAll are welcome!
URL:https://www.sainthedwig.org/event/young-adult-rosary/2027-12-13/
ATTACH;FMTTYPE=image/png:https://www.sainthedwig.org/wp-content/uploads/2025/10/Wordpress-Events-Page-Images-6.png
END:VEVENT
BEGIN:VEVENT
DTSTART;TZID=America/Los_Angeles:20271216T000000
DTEND;TZID=America/Los_Angeles:20271217T235959
DTSTAMP:20260423T063214
CREATED:20250910T002855Z
LAST-MODIFIED:20260217T213330Z
UID:10001380-1828915200-1829087999@www.sainthedwig.org
SUMMARY:24-Hour Adoration
DESCRIPTION:Come and be in His Presence! We have 24-hour Adoration on the 16th of every month starting after the 8:30 AM Mass. Benediction is the next morning at 8:15 AM. \n\n\n\nTo sign up visit: sainthedwig.weadorehim.com/.  \n\n\n\nHe’s waiting for you! \n\n\n\nThe church (Quinn Hall) is locked from 8:00 PM – 6:30 AM. An entry code is provided after signing up online.  \n\n\n\nQuestions? (562) 296-9098  \n\n\n\nEmail: Adoration@sainthedwig.org
URL:https://www.sainthedwig.org/event/24-hour-adoration-tuesday-sept-16-wednesday-sept-17/2027-12-16/
ATTACH;FMTTYPE=image/png:https://www.sainthedwig.org/wp-content/uploads/2025/09/E-Blast-Banners-NEW-4.png
END:VEVENT
BEGIN:VEVENT
DTSTART;TZID=America/Los_Angeles:20271220T193000
DTEND;TZID=America/Los_Angeles:20271220T203000
DTSTAMP:20260423T063214
CREATED:20251017T234916Z
LAST-MODIFIED:20260108T004714Z
UID:10000705-1829331000-1829334600@www.sainthedwig.org
SUMMARY:Young Adult Rosary & Bible Study
DESCRIPTION:Join us every Monday at 7:30 PM in the Our Lady of Guadalupe Room (Parish Center\, across from Quinn Hall) for a peaceful evening of prayer and fellowship. Open to young adults ages 18–36. \n\n\n\nJoin our GroupMe and stay connected. Email ebray@sainthedwig.org for the link. \n\n\n\nAll are welcome!
URL:https://www.sainthedwig.org/event/young-adult-rosary/2027-12-20/
ATTACH;FMTTYPE=image/png:https://www.sainthedwig.org/wp-content/uploads/2025/10/Wordpress-Events-Page-Images-6.png
END:VEVENT
BEGIN:VEVENT
DTSTART;TZID=America/Los_Angeles:20271226T131500
DTEND;TZID=America/Los_Angeles:20271226T141500
DTSTAMP:20260423T063214
CREATED:20250918T171719Z
LAST-MODIFIED:20260217T213519Z
UID:10001441-1829826900-1829830500@www.sainthedwig.org
SUMMARY:Rosary for Life
DESCRIPTION:Our Respect Life Ministry invites you to join in praying the Glorious Mysteries of the Rosary for the protection and dignity of all life\, from conception to natural death. \n\n\n\nWhen: Every last Sunday of the month at 1:15 PMWhere: Church \n\n\n\nAll are welcome to participate in this powerful prayer for life. \n\n\n\nFor resources and more information\, visit: www.sainthedwig.org/respect-life/
URL:https://www.sainthedwig.org/event/rosary-for-life-4/2027-12-26/
ATTACH;FMTTYPE=image/png:https://www.sainthedwig.org/wp-content/uploads/2025/09/Wordpress-Events-Page-Images-12.png
END:VEVENT
BEGIN:VEVENT
DTSTART;TZID=America/Los_Angeles:20271227T193000
DTEND;TZID=America/Los_Angeles:20271227T203000
DTSTAMP:20260423T063214
CREATED:20251017T234916Z
LAST-MODIFIED:20260108T004714Z
UID:10000706-1829935800-1829939400@www.sainthedwig.org
SUMMARY:Young Adult Rosary & Bible Study
DESCRIPTION:Join us every Monday at 7:30 PM in the Our Lady of Guadalupe Room (Parish Center\, across from Quinn Hall) for a peaceful evening of prayer and fellowship. Open to young adults ages 18–36. \n\n\n\nJoin our GroupMe and stay connected. Email ebray@sainthedwig.org for the link. \n\n\n\nAll are welcome!
URL:https://www.sainthedwig.org/event/young-adult-rosary/2027-12-27/
ATTACH;FMTTYPE=image/png:https://www.sainthedwig.org/wp-content/uploads/2025/10/Wordpress-Events-Page-Images-6.png
END:VEVENT
BEGIN:VEVENT
DTSTART;TZID=America/Los_Angeles:20280103T193000
DTEND;TZID=America/Los_Angeles:20280103T203000
DTSTAMP:20260423T063214
CREATED:20251017T234916Z
LAST-MODIFIED:20260108T004714Z
UID:10000707-1830540600-1830544200@www.sainthedwig.org
SUMMARY:Young Adult Rosary & Bible Study
DESCRIPTION:Join us every Monday at 7:30 PM in the Our Lady of Guadalupe Room (Parish Center\, across from Quinn Hall) for a peaceful evening of prayer and fellowship. Open to young adults ages 18–36. \n\n\n\nJoin our GroupMe and stay connected. Email ebray@sainthedwig.org for the link. \n\n\n\nAll are welcome!
URL:https://www.sainthedwig.org/event/young-adult-rosary/2028-01-03/
ATTACH;FMTTYPE=image/png:https://www.sainthedwig.org/wp-content/uploads/2025/10/Wordpress-Events-Page-Images-6.png
END:VEVENT
BEGIN:VEVENT
DTSTART;TZID=America/Los_Angeles:20280105T190000
DTEND;TZID=America/Los_Angeles:20280105T203000
DTSTAMP:20260423T063214
CREATED:20260108T005849Z
LAST-MODIFIED:20260108T005851Z
UID:10001263-1830711600-1830717000@www.sainthedwig.org
SUMMARY:Young Adult Ministry - Arts & Christ
DESCRIPTION:Every First Wednesday of the Month at 7:00 PM. Our Lady of Guadalupe Room\, Parish Center. \n\n\n\nJoin us for a faith-filled evening of creativity\, community\, and reflection as we create Catholic religious crafts together. \n\n\n\nInfo: George (562-296-9041) | Eric (562-296-9020)
URL:https://www.sainthedwig.org/event/young-adult-ministry-arts-christ/2028-01-05/
ATTACH;FMTTYPE=image/png:https://www.sainthedwig.org/wp-content/uploads/2026/01/Wordpress-Events-Page-Images-7.png
END:VEVENT
BEGIN:VEVENT
DTSTART;TZID=America/Los_Angeles:20280110T193000
DTEND;TZID=America/Los_Angeles:20280110T203000
DTSTAMP:20260423T063214
CREATED:20251017T234916Z
LAST-MODIFIED:20260108T004714Z
UID:10000708-1831145400-1831149000@www.sainthedwig.org
SUMMARY:Young Adult Rosary & Bible Study
DESCRIPTION:Join us every Monday at 7:30 PM in the Our Lady of Guadalupe Room (Parish Center\, across from Quinn Hall) for a peaceful evening of prayer and fellowship. Open to young adults ages 18–36. \n\n\n\nJoin our GroupMe and stay connected. Email ebray@sainthedwig.org for the link. \n\n\n\nAll are welcome!
URL:https://www.sainthedwig.org/event/young-adult-rosary/2028-01-10/
ATTACH;FMTTYPE=image/png:https://www.sainthedwig.org/wp-content/uploads/2025/10/Wordpress-Events-Page-Images-6.png
END:VEVENT
BEGIN:VEVENT
DTSTART;TZID=America/Los_Angeles:20280116T000000
DTEND;TZID=America/Los_Angeles:20280117T235959
DTSTAMP:20260423T063215
CREATED:20250910T002855Z
LAST-MODIFIED:20260217T213330Z
UID:10001381-1831593600-1831766399@www.sainthedwig.org
SUMMARY:24-Hour Adoration
DESCRIPTION:Come and be in His Presence! We have 24-hour Adoration on the 16th of every month starting after the 8:30 AM Mass. Benediction is the next morning at 8:15 AM. \n\n\n\nTo sign up visit: sainthedwig.weadorehim.com/.  \n\n\n\nHe’s waiting for you! \n\n\n\nThe church (Quinn Hall) is locked from 8:00 PM – 6:30 AM. An entry code is provided after signing up online.  \n\n\n\nQuestions? (562) 296-9098  \n\n\n\nEmail: Adoration@sainthedwig.org
URL:https://www.sainthedwig.org/event/24-hour-adoration-tuesday-sept-16-wednesday-sept-17/2028-01-16/
ATTACH;FMTTYPE=image/png:https://www.sainthedwig.org/wp-content/uploads/2025/09/E-Blast-Banners-NEW-4.png
END:VEVENT
END:VCALENDAR