BEGIN:VCALENDAR
VERSION:2.0
PRODID:-//Saint Hedwig Catholic Church - ECPv6.15.17.1//NONSGML v1.0//EN
CALSCALE:GREGORIAN
METHOD:PUBLISH
X-WR-CALNAME:Saint Hedwig Catholic Church
X-ORIGINAL-URL:https://www.sainthedwig.org
X-WR-CALDESC:Events for Saint Hedwig Catholic Church
REFRESH-INTERVAL;VALUE=DURATION:PT1H
X-Robots-Tag:noindex
X-PUBLISHED-TTL:PT1H
BEGIN:VTIMEZONE
TZID:America/Los_Angeles
BEGIN:DAYLIGHT
TZOFFSETFROM:-0800
TZOFFSETTO:-0700
TZNAME:PDT
DTSTART:20240310T100000
END:DAYLIGHT
BEGIN:STANDARD
TZOFFSETFROM:-0700
TZOFFSETTO:-0800
TZNAME:PST
DTSTART:20241103T090000
END:STANDARD
BEGIN:DAYLIGHT
TZOFFSETFROM:-0800
TZOFFSETTO:-0700
TZNAME:PDT
DTSTART:20250309T100000
END:DAYLIGHT
BEGIN:STANDARD
TZOFFSETFROM:-0700
TZOFFSETTO:-0800
TZNAME:PST
DTSTART:20251102T090000
END:STANDARD
BEGIN:DAYLIGHT
TZOFFSETFROM:-0800
TZOFFSETTO:-0700
TZNAME:PDT
DTSTART:20260308T100000
END:DAYLIGHT
BEGIN:STANDARD
TZOFFSETFROM:-0700
TZOFFSETTO:-0800
TZNAME:PST
DTSTART:20261101T090000
END:STANDARD
END:VTIMEZONE
BEGIN:VEVENT
DTSTART;TZID=America/Los_Angeles:20251221T143000
DTEND;TZID=America/Los_Angeles:20251221T163000
DTSTAMP:20260425T124739
CREATED:20251103T191444Z
LAST-MODIFIED:20251217T190153Z
UID:10001117-1766327400-1766334600@www.sainthedwig.org
SUMMARY:A Christmas Concert - Songs of Our Savior's Birth
DESCRIPTION:St. Hedwig Music Ministry Presents: A Christmas Concert \n\n\n\nFeaturing the St. Hedwig Adult Choir\, with Special Guest\, Joanne Coudriet \n\n\n\nOur annual Christmas Concert will include an afternoon of sacred Christmas music and joyful caroling\, followed by a reception with festive cookies\, cocoa\, and coffee in the Holy Family Plaza. \n\n\n\nPlease note\, the Christmas Dinner will not be held this year. We look forward to resuming this annual tradition next year. \n\n\n\nThe concert is FREE\, and all are welcome to attend!
URL:https://www.sainthedwig.org/event/a-christmas-concert-songs-of-our-saviors-birth/
CATEGORIES:Christmas,Concert,Music Ministry
ATTACH;FMTTYPE=image/png:https://www.sainthedwig.org/wp-content/uploads/2025/10/Wordpress-Events-Page-Images-3-1.png
END:VEVENT
BEGIN:VEVENT
DTSTART;TZID=America/Los_Angeles:20251222T193000
DTEND;TZID=America/Los_Angeles:20251222T203000
DTSTAMP:20260425T124739
CREATED:20251017T234916Z
LAST-MODIFIED:20260108T004714Z
UID:10000601-1766431800-1766435400@www.sainthedwig.org
SUMMARY:Young Adult Rosary & Bible Study
DESCRIPTION:Join us every Monday at 7:30 PM in the Our Lady of Guadalupe Room (Parish Center\, across from Quinn Hall) for a peaceful evening of prayer and fellowship. Open to young adults ages 18–36. \n\n\n\nJoin our GroupMe and stay connected. Email ebray@sainthedwig.org for the link. \n\n\n\nAll are welcome!
URL:https://www.sainthedwig.org/event/young-adult-rosary/2025-12-22/
ATTACH;FMTTYPE=image/png:https://www.sainthedwig.org/wp-content/uploads/2025/10/Wordpress-Events-Page-Images-6.png
END:VEVENT
END:VCALENDAR